BEGIN:VCALENDAR
VERSION:2.0
PRODID:-//archive.cryptologicfoundation.org//NONSGML kigkonsult.se iCalcrea
 tor 2.30.10//
CALSCALE:GREGORIAN
METHOD:PUBLISH
UID:79238073-e720-4279-a989-48513f444cf3
X-WR-CALDESC:President Kennedy ordered a naval quarantine of Cuba after int
 elligence discovered offensive missile sites on the island #OTD in 1962. T
 he Cuban Missile Crisis highlighted the importance of direct communication
  between nuclear powers. One of the outcomes of the crisis was the install
 ation of a “Hotline” between Washington and Moscow. The original Washingto
 n-to-Moscow Hotline was a one-time tape/teletype system for which the Sovi
 ets and Americans exchanged compatible equipment. \n\nPictured here is the
  East German T63-SU12 teleprinter with an encryptor system\, which was use
 d as part of the hotline from 1963 to 1980. Learn more about the hotline v
 ia the link below to the NCM's Virmuze virtual museum.
X-WR-RELCALID:7c8db3c377798e8fc263006251fa436c
X-WR-TIMEZONE:America/New_York
BEGIN:VTIMEZONE
TZID:America/New_York
BEGIN:STANDARD
TZNAME:EST
DTSTART:20261101T020000
TZOFFSETFROM:-0400
TZOFFSETTO:-0500
RDATE:20271107T020000
RDATE:20281105T020000
END:STANDARD
BEGIN:DAYLIGHT
TZNAME:EDT
DTSTART:20270314T020000
TZOFFSETFROM:-0500
TZOFFSETTO:-0400
RDATE:20280312T020000
RDATE:20290311T020000
END:DAYLIGHT
END:VTIMEZONE
BEGIN:VEVENT
UID:0d2a3a26-52d4-4702-af2c-9c8dd4a5ed1e
DTSTAMP:20260425T105640Z
DESCRIPTION:President Kennedy ordered a naval quarantine of Cuba after inte
 lligence discovered offensive missile sites on the island #OTD in 1962. Th
 e Cuban Missile Crisis highlighted the importance of direct communication 
 between nuclear powers. One of the outcomes of the crisis was the installa
 tion of a “Hotline” between Washington and Moscow. The original Washington
 -to-Moscow Hotline was a one-time tape/teletype system for which the Sovie
 ts and Americans exchanged compatible equipment. \n\nPictured here is the 
 East German T63-SU12 teleprinter with an encryptor system\, which was used
  as part of the hotline from 1963 to 1980. Learn more about the hotline vi
 a the link below to the NCM's Virmuze virtual museum.
DTSTART;TZID=America/New_York:20271021T000000
DTEND;TZID=America/New_York:20271021T235900
LOCATION:
SUMMARY:1962: President Kennedy ordered a naval quarantine of Cuba
END:VEVENT
END:VCALENDAR
