BEGIN:VCALENDAR
VERSION:2.0
PRODID:-//archive.cryptologicfoundation.org//NONSGML kigkonsult.se iCalcrea
 tor 2.30.10//
CALSCALE:GREGORIAN
METHOD:PUBLISH
UID:4579cebd-b8fe-40c2-8b09-afb930a48a0c
X-WR-CALDESC:22 October 1893: CAPT Laurance Safford\, USN\, father of Ameri
 can naval cryptology\, was born. Captain Safford established the Naval cry
 ptologic organization after World War I\, and headed the effort more or le
 ss constantly until shortly after the Japanese attach on Pearl Harbor. His
  identification with the Naval effort was so close that he was the Friedma
 n of the Navy.\n\nLaurance Safford was inducted into the NSA Cryptologic H
 all of Honor in 1999. Read more about his life and accomplishments via his
  Hall of Honor page on the NSA site via the link below.
X-WR-RELCALID:f3c27ba98a8590331d757029d0d0025b
X-WR-TIMEZONE:America/New_York
BEGIN:VTIMEZONE
TZID:America/New_York
BEGIN:STANDARD
TZNAME:EST
DTSTART:20261101T020000
TZOFFSETFROM:-0400
TZOFFSETTO:-0500
RDATE:20271107T020000
RDATE:20281105T020000
END:STANDARD
BEGIN:DAYLIGHT
TZNAME:EDT
DTSTART:20270314T020000
TZOFFSETFROM:-0500
TZOFFSETTO:-0400
RDATE:20280312T020000
RDATE:20290311T020000
END:DAYLIGHT
END:VTIMEZONE
BEGIN:VEVENT
UID:61563c8c-db58-448b-bd8c-aeccb3b72363
DTSTAMP:20260425T104717Z
DESCRIPTION:22 October 1893: CAPT Laurance Safford\, USN\, father of Americ
 an naval cryptology\, was born. Captain Safford established the Naval cryp
 tologic organization after World War I\, and headed the effort more or les
 s constantly until shortly after the Japanese attach on Pearl Harbor. His 
 identification with the Naval effort was so close that he was the Friedman
  of the Navy.\n\nLaurance Safford was inducted into the NSA Cryptologic Ha
 ll of Honor in 1999. Read more about his life and accomplishments via his 
 Hall of Honor page on the NSA site via the link below.
DTSTART;TZID=America/New_York:20271022T000000
DTEND;TZID=America/New_York:20271022T235900
LOCATION:
SUMMARY:1893: Laurance Safford born.
END:VEVENT
END:VCALENDAR
