BEGIN:VCALENDAR
VERSION:2.0
PRODID:-//archive.cryptologicfoundation.org//NONSGML kigkonsult.se iCalcrea
 tor 2.30.10//
CALSCALE:GREGORIAN
METHOD:PUBLISH
UID:38ffbcdc-cc46-451e-8a7f-ad6c45f0af60
X-WR-CALDESC:The United Nations officially came into existence #OTD in 1945
  when the charter had been ratified by a majority of signatories. Pictured
  here is the U.S. Ambassador to the United Nations Adlai E. Stevenson II u
 sing the KY-3 secure voice encryption system in his U.N. office. \n\nLearn
  more about secure phones via the link below.
X-WR-RELCALID:e38285ea95c75f3f69a5c3821e17e876
X-WR-TIMEZONE:America/New_York
BEGIN:VTIMEZONE
TZID:America/New_York
BEGIN:STANDARD
TZNAME:EST
DTSTART:20261101T020000
TZOFFSETFROM:-0400
TZOFFSETTO:-0500
RDATE:20271107T020000
RDATE:20281105T020000
END:STANDARD
BEGIN:DAYLIGHT
TZNAME:EDT
DTSTART:20270314T020000
TZOFFSETFROM:-0500
TZOFFSETTO:-0400
RDATE:20280312T020000
RDATE:20290311T020000
END:DAYLIGHT
END:VTIMEZONE
BEGIN:VEVENT
UID:b8a9614f-f42b-4ac3-a452-9efdf31e7764
DTSTAMP:20260425T104426Z
DESCRIPTION:The United Nations officially came into existence #OTD in 1945 
 when the charter had been ratified by a majority of signatories. Pictured 
 here is the U.S. Ambassador to the United Nations Adlai E. Stevenson II us
 ing the KY-3 secure voice encryption system in his U.N. office. \n\nLearn 
 more about secure phones via the link below.
DTSTART;TZID=America/New_York:20271024T000000
DTEND;TZID=America/New_York:20271024T235900
LOCATION:
SUMMARY:1945: United Nations came into existence.
END:VEVENT
END:VCALENDAR
