BEGIN:VCALENDAR
VERSION:2.0
PRODID:-//archive.cryptologicfoundation.org//NONSGML kigkonsult.se iCalcrea
 tor 2.30.10//
CALSCALE:GREGORIAN
METHOD:PUBLISH
UID:6918f839-d72d-4bed-a02c-65b705c6a827
X-WR-CALDESC:24 October 1957: Dr James Killian submitted an influential rep
 ort on defense and intelligence to the president of the U.S. with recommen
 dations on how NSA could remain productive in COMINT. Dr. Killian was the 
 first presidential science advisor and oversaw the creation of the Preside
 ntial Scientific Advisory Committee. In the photo: Dr. Killian is sworn in
  as the first scientific advisor to the U.S. president.
X-WR-RELCALID:81ec5066d5728807e6ba02321fdbf7a2
X-WR-TIMEZONE:America/New_York
BEGIN:VTIMEZONE
TZID:America/New_York
BEGIN:STANDARD
TZNAME:EST
DTSTART:20261101T020000
TZOFFSETFROM:-0400
TZOFFSETTO:-0500
RDATE:20271107T020000
RDATE:20281105T020000
END:STANDARD
BEGIN:DAYLIGHT
TZNAME:EDT
DTSTART:20270314T020000
TZOFFSETFROM:-0500
TZOFFSETTO:-0400
RDATE:20280312T020000
RDATE:20290311T020000
END:DAYLIGHT
END:VTIMEZONE
BEGIN:VEVENT
UID:f048c1e9-4c1b-4920-b1bf-c59dc9c98517
DTSTAMP:20260425T104626Z
DESCRIPTION:24 October 1957: Dr James Killian submitted an influential repo
 rt on defense and intelligence to the president of the U.S. with recommend
 ations on how NSA could remain productive in COMINT. Dr. Killian was the f
 irst presidential science advisor and oversaw the creation of the Presiden
 tial Scientific Advisory Committee. In the photo: Dr. Killian is sworn in 
 as the first scientific advisor to the U.S. president.
DTSTART;TZID=America/New_York:20271024T000000
DTEND;TZID=America/New_York:20271024T235900
LOCATION:
SUMMARY:1957: Dr. James Killian Submits Influential Report on Defense and I
 ntelligence
END:VEVENT
END:VCALENDAR
