BEGIN:VCALENDAR
VERSION:2.0
PRODID:-//archive.cryptologicfoundation.org//NONSGML kigkonsult.se iCalcrea
 tor 2.30.10//
CALSCALE:GREGORIAN
METHOD:PUBLISH
UID:024fd273-4703-4da2-a150-91e5e6b28707
X-WR-CALDESC:25 October 1983:  U.S. forces landed in Grenada during Operati
 on Urgent Fury. Triggered by the house arrest and murder of the leader of 
 the coup which had brought a revolutionary government to power for the pre
 ceding four years\, the invasion resulted in a restoration of the pre-revo
 lutionary regime.
X-WR-RELCALID:d2eeb27022c80e79779d258db90b4da5
X-WR-TIMEZONE:America/New_York
BEGIN:VTIMEZONE
TZID:America/New_York
BEGIN:STANDARD
TZNAME:EST
DTSTART:20261101T020000
TZOFFSETFROM:-0400
TZOFFSETTO:-0500
RDATE:20271107T020000
RDATE:20281105T020000
END:STANDARD
BEGIN:DAYLIGHT
TZNAME:EDT
DTSTART:20270314T020000
TZOFFSETFROM:-0500
TZOFFSETTO:-0400
RDATE:20280312T020000
RDATE:20290311T020000
END:DAYLIGHT
END:VTIMEZONE
BEGIN:VEVENT
UID:d9019fb7-4acf-41fb-908d-059669c9aac5
DTSTAMP:20260425T104934Z
DESCRIPTION:25 October 1983:  U.S. forces landed in Grenada during Operatio
 n Urgent Fury. Triggered by the house arrest and murder of the leader of t
 he coup which had brought a revolutionary government to power for the prec
 eding four years\, the invasion resulted in a restoration of the pre-revol
 utionary regime.
DTSTART;TZID=America/New_York:20271025T000000
DTEND;TZID=America/New_York:20271025T235900
LOCATION:
SUMMARY:1983: U.S. Forces Landed in Grenada During Operation Urgent Fury
END:VEVENT
END:VCALENDAR
