BEGIN:VCALENDAR
VERSION:2.0
PRODID:-//archive.cryptologicfoundation.org//NONSGML kigkonsult.se iCalcrea
 tor 2.30.10//
CALSCALE:GREGORIAN
METHOD:PUBLISH
UID:6fb38c99-5109-47e3-b6d0-72df6ed8fb6c
X-WR-CALDESC:26 October 1918: First combat employment of Native American (C
 hoctaw) Code Talkers. \n\nNative American Code Talkers were awarded the NS
 A's highest honor by being inducted as a group into the NSA Cryptologic Ha
 ll of Honor in 2013. Read more on their NSA Hall of Honor page via the lin
 k below. In December 2014\, the NCM's Native American Code Talker exhibit 
 was updated. Learn more about the exhibit and the Code Talkers' honors via
  the additional link below.
X-WR-RELCALID:601214c34228f21bfea4bc128d89cac9
X-WR-TIMEZONE:America/New_York
BEGIN:VTIMEZONE
TZID:America/New_York
BEGIN:STANDARD
TZNAME:EST
DTSTART:20261101T020000
TZOFFSETFROM:-0400
TZOFFSETTO:-0500
RDATE:20271107T020000
RDATE:20281105T020000
END:STANDARD
BEGIN:DAYLIGHT
TZNAME:EDT
DTSTART:20270314T020000
TZOFFSETFROM:-0500
TZOFFSETTO:-0400
RDATE:20280312T020000
RDATE:20290311T020000
END:DAYLIGHT
END:VTIMEZONE
BEGIN:VEVENT
UID:17a56a59-4dad-491d-8ed5-1fbf7f818da0
DTSTAMP:20260425T104754Z
DESCRIPTION:26 October 1918: First combat employment of Native American (Ch
 octaw) Code Talkers. \n\nNative American Code Talkers were awarded the NSA
 's highest honor by being inducted as a group into the NSA Cryptologic Hal
 l of Honor in 2013. Read more on their NSA Hall of Honor page via the link
  below. In December 2014\, the NCM's Native American Code Talker exhibit w
 as updated. Learn more about the exhibit and the Code Talkers' honors via 
 the additional link below.
DTSTART;TZID=America/New_York:20271026T000000
DTEND;TZID=America/New_York:20271026T235900
LOCATION:
SUMMARY:1918: First Combat Employment of Choctaw Codetalkers
END:VEVENT
END:VCALENDAR
