BEGIN:VCALENDAR
VERSION:2.0
PRODID:-//archive.cryptologicfoundation.org//NONSGML kigkonsult.se iCalcrea
 tor 2.30.10//
CALSCALE:GREGORIAN
METHOD:PUBLISH
UID:10ae6f7d-9e04-47c0-96f4-cc2738f66379
X-WR-CALDESC:28 October 1861: President Lincoln approved the establishment 
 of the Military Telegraph Department. Pictured here is a Military Telegrap
 h battery wagon\, circa 1864.
X-WR-RELCALID:098a711f936c85d8c8ac602242fd91ff
X-WR-TIMEZONE:America/New_York
BEGIN:VTIMEZONE
TZID:America/New_York
BEGIN:STANDARD
TZNAME:EST
DTSTART:20261101T020000
TZOFFSETFROM:-0400
TZOFFSETTO:-0500
RDATE:20271107T020000
RDATE:20281105T020000
END:STANDARD
BEGIN:DAYLIGHT
TZNAME:EDT
DTSTART:20270314T020000
TZOFFSETFROM:-0500
TZOFFSETTO:-0400
RDATE:20280312T020000
RDATE:20290311T020000
END:DAYLIGHT
END:VTIMEZONE
BEGIN:VEVENT
UID:1a55413e-0795-49c0-abf9-d0bc33ae0c87
DTSTAMP:20260425T110107Z
DESCRIPTION:28 October 1861: President Lincoln approved the establishment o
 f the Military Telegraph Department. Pictured here is a Military Telegraph
  battery wagon\, circa 1864.
DTSTART;TZID=America/New_York:20271028T000000
DTEND;TZID=America/New_York:20271028T235900
LOCATION:
SUMMARY:1861: Lincoln Approved Military Telegraph Department
END:VEVENT
END:VCALENDAR
