BEGIN:VCALENDAR
VERSION:2.0
PRODID:-//archive.cryptologicfoundation.org//NONSGML kigkonsult.se iCalcrea
 tor 2.30.10//
CALSCALE:GREGORIAN
METHOD:PUBLISH
UID:c792db3c-0724-4db1-8f0b-1e428047c0db
X-WR-CALDESC:28 October 1918: The 'Osage' field code was released.
X-WR-RELCALID:d06e1582edb4f17ec8a1218bf023ebcb
X-WR-TIMEZONE:America/New_York
BEGIN:VTIMEZONE
TZID:America/New_York
BEGIN:STANDARD
TZNAME:EST
DTSTART:20261101T020000
TZOFFSETFROM:-0400
TZOFFSETTO:-0500
RDATE:20271107T020000
RDATE:20281105T020000
END:STANDARD
BEGIN:DAYLIGHT
TZNAME:EDT
DTSTART:20270314T020000
TZOFFSETFROM:-0500
TZOFFSETTO:-0400
RDATE:20280312T020000
RDATE:20290311T020000
END:DAYLIGHT
END:VTIMEZONE
BEGIN:VEVENT
UID:6fd1131f-3df9-4f79-9f9c-0cb91ef47610
DTSTAMP:20260425T104056Z
DESCRIPTION:28 October 1918: The 'Osage' field code was released.
DTSTART;TZID=America/New_York:20271028T000000
DTEND;TZID=America/New_York:20271028T235900
LOCATION:
SUMMARY:1918: The 'Osage' Field Code Was Released.
END:VEVENT
END:VCALENDAR
