BEGIN:VCALENDAR
VERSION:2.0
PRODID:-//archive.cryptologicfoundation.org//NONSGML kigkonsult.se iCalcrea
 tor 2.30.10//
CALSCALE:GREGORIAN
METHOD:PUBLISH
UID:fae31ec9-ac69-4ec1-87f7-1e68e93ffaf6
X-WR-CALDESC:29 October 1917: First U.S. intercept in France in World War O
 ne.
X-WR-RELCALID:c6105fad6050d8b5960e5188564daaca
X-WR-TIMEZONE:America/New_York
BEGIN:VTIMEZONE
TZID:America/New_York
BEGIN:STANDARD
TZNAME:EST
DTSTART:20261101T020000
TZOFFSETFROM:-0400
TZOFFSETTO:-0500
RDATE:20271107T020000
RDATE:20281105T020000
END:STANDARD
BEGIN:DAYLIGHT
TZNAME:EDT
DTSTART:20270314T020000
TZOFFSETFROM:-0500
TZOFFSETTO:-0400
RDATE:20280312T020000
RDATE:20290311T020000
END:DAYLIGHT
END:VTIMEZONE
BEGIN:VEVENT
UID:92afbe6c-95a1-4be0-87e1-c9d2190bcd13
DTSTAMP:20260425T110918Z
DESCRIPTION:29 October 1917: First U.S. intercept in France in World War On
 e.
DTSTART;TZID=America/New_York:20271029T000000
DTEND;TZID=America/New_York:20271029T235900
LOCATION:
SUMMARY:1917: First U.S. Intercept in France in WWI
END:VEVENT
END:VCALENDAR
