BEGIN:VCALENDAR
VERSION:2.0
PRODID:-//archive.cryptologicfoundation.org//NONSGML kigkonsult.se iCalcrea
 tor 2.30.10//
CALSCALE:GREGORIAN
METHOD:PUBLISH
UID:46891e70-5f7c-4c58-a84b-15bfbe7410ac
X-WR-CALDESC:29 October 1969: First message was sent on Department of Defen
 se-funded ARPANET\, the forerunner of the modern Internet. \n\nThe first m
 essage sent over the ARPANET was from Leonard Kleinrock’s UCLA computer by
  student programmer Charley Kline at 10:30 pm on October 29\, 1969\, to th
 e second node at Stanford Research Institute’s computer in Menlo Park\, Ca
 lifornia.\n\nThe message was simply “Lo.”\n\n'The message text was the wor
 d login\; the l and the o letters were transmitted\, but the system then c
 rashed. Hence\, the literal first message over the ARPANET was lo. About a
 n hour later\, having recovered from the crash\, the SDS Sigma 7 computer 
 effected a full login.' (Wikipedia)
X-WR-RELCALID:0a087d71a2c3995b9e8b3bd651cfc067
X-WR-TIMEZONE:America/New_York
BEGIN:VTIMEZONE
TZID:America/New_York
BEGIN:STANDARD
TZNAME:EST
DTSTART:20261101T020000
TZOFFSETFROM:-0400
TZOFFSETTO:-0500
RDATE:20271107T020000
RDATE:20281105T020000
END:STANDARD
BEGIN:DAYLIGHT
TZNAME:EDT
DTSTART:20270314T020000
TZOFFSETFROM:-0500
TZOFFSETTO:-0400
RDATE:20280312T020000
RDATE:20290311T020000
END:DAYLIGHT
END:VTIMEZONE
BEGIN:VEVENT
UID:0f204daa-529e-44d1-873f-6180be711ce1
DTSTAMP:20260425T104230Z
DESCRIPTION:29 October 1969: First message was sent on Department of Defens
 e-funded ARPANET\, the forerunner of the modern Internet. \n\nThe first me
 ssage sent over the ARPANET was from Leonard Kleinrock’s UCLA computer by 
 student programmer Charley Kline at 10:30 pm on October 29\, 1969\, to the
  second node at Stanford Research Institute’s computer in Menlo Park\, Cal
 ifornia.\n\nThe message was simply “Lo.”\n\n'The message text was the word
  login\; the l and the o letters were transmitted\, but the system then cr
 ashed. Hence\, the literal first message over the ARPANET was lo. About an
  hour later\, having recovered from the crash\, the SDS Sigma 7 computer e
 ffected a full login.' (Wikipedia)
DTSTART;TZID=America/New_York:20271029T000000
DTEND;TZID=America/New_York:20271029T235900
LOCATION:
SUMMARY:1969: 1st Message Sent on DoD ARPANET
END:VEVENT
END:VCALENDAR
