BEGIN:VCALENDAR
VERSION:2.0
PRODID:-//archive.cryptologicfoundation.org//NONSGML kigkonsult.se iCalcrea
 tor 2.30.10//
CALSCALE:GREGORIAN
METHOD:PUBLISH
UID:a4f0ee4f-b550-465e-a1a1-219de3b7b7e4
X-WR-CALDESC:30 October 1992:  The NSA's Center for Cryptologic History pub
 lished\, 'The Friedman Legacy: A Tribute to William and Elizebeth Friedman
 ' which includes transcripts of the famed 'Friedman Lectures.' To listen t
 o the audio collection or view transcripts\, click the links below.
X-WR-RELCALID:5c717aa69e217d7ab71b451e2cd824ac
X-WR-TIMEZONE:America/New_York
BEGIN:VTIMEZONE
TZID:America/New_York
BEGIN:STANDARD
TZNAME:EST
DTSTART:20261101T020000
TZOFFSETFROM:-0400
TZOFFSETTO:-0500
RDATE:20271107T020000
RDATE:20281105T020000
END:STANDARD
BEGIN:DAYLIGHT
TZNAME:EDT
DTSTART:20270314T020000
TZOFFSETFROM:-0500
TZOFFSETTO:-0400
RDATE:20280312T020000
RDATE:20290311T020000
END:DAYLIGHT
END:VTIMEZONE
BEGIN:VEVENT
UID:873c8195-2494-4a5b-a7a0-b6ca0a6d912b
DTSTAMP:20260425T104403Z
DESCRIPTION:30 October 1992:  The NSA's Center for Cryptologic History publ
 ished\, 'The Friedman Legacy: A Tribute to William and Elizebeth Friedman'
  which includes transcripts of the famed 'Friedman Lectures.' To listen to
  the audio collection or view transcripts\, click the links below.
DTSTART;TZID=America/New_York:20271030T000000
DTEND;TZID=America/New_York:20271030T235900
LOCATION:
SUMMARY:1992: Center for Cryptologic History Published 'The Friedman Legacy
 '
END:VEVENT
END:VCALENDAR
