BEGIN:VCALENDAR
VERSION:2.0
PRODID:-//archive.cryptologicfoundation.org//NONSGML kigkonsult.se iCalcrea
 tor 2.30.10//
CALSCALE:GREGORIAN
METHOD:PUBLISH
UID:26786af6-ed80-408c-94f5-ed9b8cfbc55d
X-WR-CALDESC:31 October 1980: American Cryptologic Pioneer Elizebeth Friedm
 an Died. Photo is from The George C. Marshall Foundation.\n\nElizebeth Fri
 edman was inducted into the NSA Cryptologic Hall of Honor in 1999. Read ab
 out her life and accomplishments via the link at the end of the page to he
 r NSA Hall of Honor page.\n\nFrom the Hall of Honor:  'Although she is oft
 en referred to as the wife of William Friedman\, she enjoyed many successe
 s in cryptology in her own right and has been dubbed 'America's first fema
 le cryptanalyst.' In fact\, although her husband is credited with numerous
  contributions to cryptology\, it was Mrs. Friedman who introduced him to 
 the field.......'\n
X-WR-RELCALID:9f0087cbc5bab547276eb7bcba850cab
X-WR-TIMEZONE:America/New_York
BEGIN:VTIMEZONE
TZID:America/New_York
BEGIN:STANDARD
TZNAME:EST
DTSTART:20261101T020000
TZOFFSETFROM:-0400
TZOFFSETTO:-0500
RDATE:20271107T020000
RDATE:20281105T020000
END:STANDARD
BEGIN:DAYLIGHT
TZNAME:EDT
DTSTART:20270314T020000
TZOFFSETFROM:-0500
TZOFFSETTO:-0400
RDATE:20280312T020000
RDATE:20290311T020000
END:DAYLIGHT
END:VTIMEZONE
BEGIN:VEVENT
UID:807a94d3-1013-42fc-9aac-398949380a38
DTSTAMP:20260425T104214Z
DESCRIPTION:31 October 1980: American Cryptologic Pioneer Elizebeth Friedma
 n Died. Photo is from The George C. Marshall Foundation.\n\nElizebeth Frie
 dman was inducted into the NSA Cryptologic Hall of Honor in 1999. Read abo
 ut her life and accomplishments via the link at the end of the page to her
  NSA Hall of Honor page.\n\nFrom the Hall of Honor:  'Although she is ofte
 n referred to as the wife of William Friedman\, she enjoyed many successes
  in cryptology in her own right and has been dubbed 'America's first femal
 e cryptanalyst.' In fact\, although her husband is credited with numerous 
 contributions to cryptology\, it was Mrs. Friedman who introduced him to t
 he field.......'\n
DTSTART;TZID=America/New_York:20271031T000000
DTEND;TZID=America/New_York:20271031T235900
LOCATION:
SUMMARY:1980: Elizebeth Friedman Died.
END:VEVENT
END:VCALENDAR
