BEGIN:VCALENDAR
VERSION:2.0
PRODID:-//archive.cryptologicfoundation.org//NONSGML kigkonsult.se iCalcrea
 tor 2.30.10//
CALSCALE:GREGORIAN
METHOD:PUBLISH
UID:f0f5d491-34ca-4a7d-a528-f4a2ab0bc059
X-WR-CALDESC:31 October 2010: The U.S. Cyber Command attained full operatio
 nal capability at Ft. Meade\, Maryland. \n\nU.S. Cyber Command's Mission: 
 USCYBERCOM plans\, coordinates\, integrates\, synchronizes and conducts ac
 tivities to: direct the operations and defense of specified Department of 
 Defense information networks and\; prepare to\, and when directed\, conduc
 t full spectrum military cyberspace operations in order to enable actions 
 in all domains\, ensure US/Allied freedom of action in cyberspace and deny
  the same to our adversaries.
X-WR-RELCALID:4dc4abd187524b323389d2ad779a8aa6
X-WR-TIMEZONE:America/New_York
BEGIN:VTIMEZONE
TZID:America/New_York
BEGIN:STANDARD
TZNAME:EST
DTSTART:20261101T020000
TZOFFSETFROM:-0400
TZOFFSETTO:-0500
RDATE:20271107T020000
RDATE:20281105T020000
END:STANDARD
BEGIN:DAYLIGHT
TZNAME:EDT
DTSTART:20270314T020000
TZOFFSETFROM:-0500
TZOFFSETTO:-0400
RDATE:20280312T020000
RDATE:20290311T020000
END:DAYLIGHT
END:VTIMEZONE
BEGIN:VEVENT
UID:b4af5e34-6389-47d7-9403-b04ff9de6d26
DTSTAMP:20260425T104230Z
DESCRIPTION:31 October 2010: The U.S. Cyber Command attained full operation
 al capability at Ft. Meade\, Maryland. \n\nU.S. Cyber Command's Mission: U
 SCYBERCOM plans\, coordinates\, integrates\, synchronizes and conducts act
 ivities to: direct the operations and defense of specified Department of D
 efense information networks and\; prepare to\, and when directed\, conduct
  full spectrum military cyberspace operations in order to enable actions i
 n all domains\, ensure US/Allied freedom of action in cyberspace and deny 
 the same to our adversaries.
DTSTART;TZID=America/New_York:20271031T000000
DTEND;TZID=America/New_York:20271031T235900
LOCATION:
SUMMARY:2010: U.S. Cyber Command at Ft. Meade
END:VEVENT
END:VCALENDAR
