BEGIN:VCALENDAR
VERSION:2.0
PRODID:-//archive.cryptologicfoundation.org//NONSGML kigkonsult.se iCalcrea
 tor 2.30.10//
CALSCALE:GREGORIAN
METHOD:PUBLISH
UID:a3364605-67f6-4dc6-81aa-f497442968be
X-WR-CALDESC:1 Nov 1919: The Government Code & Cypher School (GC&CS) was fo
 unded in 1919 as Britain's first integrated cryptographic agency.  Alastai
 r Denniston\, who had been a member of NID25\, was appointed as its operat
 ional head. Its public function was 'to advise as to the security of codes
  and cyphers used by all Government departments and to assist in their pro
 vision\,' but also had a secret directive to 'study the methods of cypher 
 communications used by foreign powers.' GC&CS was renamed Government Commu
 nications Headquarters (GCHQ) in 1946.
X-WR-RELCALID:deb890ec58e63d539de71ebbbb44d302
X-WR-TIMEZONE:America/New_York
BEGIN:VTIMEZONE
TZID:America/New_York
BEGIN:STANDARD
TZNAME:EST
DTSTART:20261101T020000
TZOFFSETFROM:-0400
TZOFFSETTO:-0500
RDATE:20271107T020000
RDATE:20281105T020000
END:STANDARD
BEGIN:DAYLIGHT
TZNAME:EDT
DTSTART:20270314T020000
TZOFFSETFROM:-0500
TZOFFSETTO:-0400
RDATE:20280312T020000
RDATE:20290311T020000
END:DAYLIGHT
END:VTIMEZONE
BEGIN:VEVENT
UID:0802b44d-26de-42c3-9240-034aa4ffa14e
DTSTAMP:20260425T121952Z
DESCRIPTION:1 Nov 1919: The Government Code & Cypher School (GC&CS) was fou
 nded in 1919 as Britain's first integrated cryptographic agency.  Alastair
  Denniston\, who had been a member of NID25\, was appointed as its operati
 onal head. Its public function was 'to advise as to the security of codes 
 and cyphers used by all Government departments and to assist in their prov
 ision\,' but also had a secret directive to 'study the methods of cypher c
 ommunications used by foreign powers.' GC&CS was renamed Government Commun
 ications Headquarters (GCHQ) in 1946.
DTSTART;TZID=America/New_York:20271101T000000
DTEND;TZID=America/New_York:20271101T235900
LOCATION:
SUMMARY:1919 Britain's Government Code & Cypher School Established
END:VEVENT
END:VCALENDAR
