BEGIN:VCALENDAR
VERSION:2.0
PRODID:-//archive.cryptologicfoundation.org//NONSGML kigkonsult.se iCalcrea
 tor 2.30.10//
CALSCALE:GREGORIAN
METHOD:PUBLISH
UID:570661a1-b8ed-496e-9a66-d8437640c585
X-WR-CALDESC:1 Nov 1953: The first NSA Newsletter came out. \n\nThe letter 
 included the NSA Creed of Service:  We as members of the National Security
  Agency accept our obligations and our opportunity to serve the American p
 eople well\, and in full measure\, doing our best to further the free and 
 democratic institutions of our country. We believe it is our duty to: carr
 y out loyally the will of our people as expressed in our laws\; service th
 e public with fairness\, integrity\, and understanding: help improve the e
 fficiency\, economy\, and effectiveness of our work..and thus do our part 
 performing the great services of our government.
X-WR-RELCALID:b50630602a12944a13ef286bef11fd13
X-WR-TIMEZONE:America/New_York
BEGIN:VTIMEZONE
TZID:America/New_York
BEGIN:STANDARD
TZNAME:EST
DTSTART:20261101T020000
TZOFFSETFROM:-0400
TZOFFSETTO:-0500
RDATE:20271107T020000
RDATE:20281105T020000
END:STANDARD
BEGIN:DAYLIGHT
TZNAME:EDT
DTSTART:20270314T020000
TZOFFSETFROM:-0500
TZOFFSETTO:-0400
RDATE:20280312T020000
RDATE:20290311T020000
END:DAYLIGHT
END:VTIMEZONE
BEGIN:VEVENT
UID:d3ac9473-b6af-4b51-96bc-40fbebe82a1b
DTSTAMP:20260425T122203Z
DESCRIPTION:1 Nov 1953: The first NSA Newsletter came out. \n\nThe letter i
 ncluded the NSA Creed of Service:  We as members of the National Security 
 Agency accept our obligations and our opportunity to serve the American pe
 ople well\, and in full measure\, doing our best to further the free and d
 emocratic institutions of our country. We believe it is our duty to: carry
  out loyally the will of our people as expressed in our laws\; service the
  public with fairness\, integrity\, and understanding: help improve the ef
 ficiency\, economy\, and effectiveness of our work..and thus do our part p
 erforming the great services of our government.
DTSTART;TZID=America/New_York:20271101T000000
DTEND;TZID=America/New_York:20271101T235900
LOCATION:
SUMMARY:1953: First NSA Newsletter
END:VEVENT
END:VCALENDAR
