BEGIN:VCALENDAR
VERSION:2.0
PRODID:-//archive.cryptologicfoundation.org//NONSGML kigkonsult.se iCalcrea
 tor 2.30.10//
CALSCALE:GREGORIAN
METHOD:PUBLISH
UID:0d5f143e-0933-4950-9488-ae297b7f13f9
X-WR-CALDESC:6 Nov 1918: 'Seneca' code was released.
X-WR-RELCALID:636f61b2e9632e2b897fe2f02e1cbbe2
X-WR-TIMEZONE:America/New_York
BEGIN:VTIMEZONE
TZID:America/New_York
BEGIN:STANDARD
TZNAME:EST
DTSTART:20271107T020000
TZOFFSETFROM:-0400
TZOFFSETTO:-0500
RDATE:20281105T020000
END:STANDARD
BEGIN:DAYLIGHT
TZNAME:EDT
DTSTART:20270314T020000
TZOFFSETFROM:-0500
TZOFFSETTO:-0400
RDATE:20280312T020000
RDATE:20290311T020000
END:DAYLIGHT
END:VTIMEZONE
BEGIN:VEVENT
UID:39daf7a8-fa72-4dc9-8cd1-96a9c06f8f32
DTSTAMP:20260425T121839Z
DESCRIPTION:6 Nov 1918: 'Seneca' code was released.
DTSTART;TZID=America/New_York:20271106T000000
DTEND;TZID=America/New_York:20271106T235900
LOCATION:
SUMMARY:1918: The 'Seneca' field code was released.
END:VEVENT
END:VCALENDAR
