BEGIN:VCALENDAR
VERSION:2.0
PRODID:-//archive.cryptologicfoundation.org//NONSGML kigkonsult.se iCalcrea
 tor 2.30.10//
CALSCALE:GREGORIAN
METHOD:PUBLISH
UID:465e2fde-358d-4553-9065-e86f022dd34e
X-WR-CALDESC:17 Nov 1989: NSA's Center for Cryptologic History was establis
 hed. Learn about the CCH via the links at the bottom of this page. \n\nThe
  Center for Cryptologic History (CCH) keeps history alive by enhancing the
  knowledge and decision-making abilities of the Intelligence Community (IC
 ). A critical asset\, the CCH provides a historical and objective account 
 of cryptologic history for the IC\, the Department of Defense\, other gove
 rnment agencies\, academia\, and the general public.\n\nAt the CCH\, we be
 lieve lessons from the past can help improve future decision making. Throu
 gh the National Cryptologic School (NCS)\, we offer numerous learning oppo
 rtunities for intelligence professionals. These include a variety of histo
 ry courses\, seminars\, illustrated lectures\, and case studies. Our many 
 publications\, classified and unclassified\, document the past and enable 
 today's cryptologic professionals to benefit from a historical perspective
  as they tackle increasingly challenging missions.\n\nOur calendar of spec
 ial programs and events explores the impact of history on current issues a
 nd operations. Each year\, the Schorreck Memorial Lecture brings a disting
 uished intelligence historian to NSA/CSS for a public presentation. Every 
 two years\, the CCH sponsors the Cryptologic History Symposium. Our Schola
 r-in-Residence Program brings an outstanding academic historian to NSA/CSS
  for a year of research.
X-WR-RELCALID:a317ad5f97513075f14c2ccba9c39aa0
X-WR-TIMEZONE:America/New_York
BEGIN:VTIMEZONE
TZID:America/New_York
BEGIN:STANDARD
TZNAME:EST
DTSTART:20271107T020000
TZOFFSETFROM:-0400
TZOFFSETTO:-0500
RDATE:20281105T020000
END:STANDARD
BEGIN:DAYLIGHT
TZNAME:EDT
DTSTART:20270314T020000
TZOFFSETFROM:-0500
TZOFFSETTO:-0400
RDATE:20280312T020000
RDATE:20290311T020000
END:DAYLIGHT
END:VTIMEZONE
BEGIN:VEVENT
UID:f996ca6c-0e44-4dd1-bf61-27c9b502da10
DTSTAMP:20260425T122054Z
DESCRIPTION:17 Nov 1989: NSA's Center for Cryptologic History was establish
 ed. Learn about the CCH via the links at the bottom of this page. \n\nThe 
 Center for Cryptologic History (CCH) keeps history alive by enhancing the 
 knowledge and decision-making abilities of the Intelligence Community (IC)
 . A critical asset\, the CCH provides a historical and objective account o
 f cryptologic history for the IC\, the Department of Defense\, other gover
 nment agencies\, academia\, and the general public.\n\nAt the CCH\, we bel
 ieve lessons from the past can help improve future decision making. Throug
 h the National Cryptologic School (NCS)\, we offer numerous learning oppor
 tunities for intelligence professionals. These include a variety of histor
 y courses\, seminars\, illustrated lectures\, and case studies. Our many p
 ublications\, classified and unclassified\, document the past and enable t
 oday's cryptologic professionals to benefit from a historical perspective 
 as they tackle increasingly challenging missions.\n\nOur calendar of speci
 al programs and events explores the impact of history on current issues an
 d operations. Each year\, the Schorreck Memorial Lecture brings a distingu
 ished intelligence historian to NSA/CSS for a public presentation. Every t
 wo years\, the CCH sponsors the Cryptologic History Symposium. Our Scholar
 -in-Residence Program brings an outstanding academic historian to NSA/CSS 
 for a year of research.
DTSTART;TZID=America/New_York:20271117T000000
DTEND;TZID=America/New_York:20271117T235900
LOCATION:
SUMMARY:1989: Center for Cryptologic History was established.
END:VEVENT
END:VCALENDAR
