BEGIN:VCALENDAR
VERSION:2.0
PRODID:-//archive.cryptologicfoundation.org//NONSGML kigkonsult.se iCalcrea
 tor 2.30.10//
CALSCALE:GREGORIAN
METHOD:PUBLISH
UID:830be397-8ab0-4589-b42b-38b4be3a831c
X-WR-CALDESC:20 Nov 1970: Attempt to rescue POWs from Son Tay\, North Vietn
 am. Tactical SIGINT was superb\, but the POWs were moved before the raid.
X-WR-RELCALID:a301297844de04d14f14116b6e638df3
X-WR-TIMEZONE:America/New_York
BEGIN:VTIMEZONE
TZID:America/New_York
BEGIN:STANDARD
TZNAME:EST
DTSTART:20271107T020000
TZOFFSETFROM:-0400
TZOFFSETTO:-0500
RDATE:20281105T020000
END:STANDARD
BEGIN:DAYLIGHT
TZNAME:EDT
DTSTART:20270314T020000
TZOFFSETFROM:-0500
TZOFFSETTO:-0400
RDATE:20280312T020000
RDATE:20290311T020000
END:DAYLIGHT
END:VTIMEZONE
BEGIN:VEVENT
UID:f68a00f5-c75c-4127-b101-23195fa51541
DTSTAMP:20260425T122707Z
DESCRIPTION:20 Nov 1970: Attempt to rescue POWs from Son Tay\, North Vietna
 m. Tactical SIGINT was superb\, but the POWs were moved before the raid.
DTSTART;TZID=America/New_York:20271120T000000
DTEND;TZID=America/New_York:20271120T235900
LOCATION:
SUMMARY:1970: Attempt to rescue POWs from North Vietnam.
END:VEVENT
END:VCALENDAR
