BEGIN:VCALENDAR
VERSION:2.0
PRODID:-//archive.cryptologicfoundation.org//NONSGML kigkonsult.se iCalcrea
 tor 2.30.10//
CALSCALE:GREGORIAN
METHOD:PUBLISH
UID:247ecb31-f1ce-4539-98cb-84023c27f2b2
X-WR-CALDESC:1969: First permanent ARPANET link established.
X-WR-RELCALID:1c66a6f2b4765c3b04252ee5b9273cb4
X-WR-TIMEZONE:America/New_York
BEGIN:VTIMEZONE
TZID:America/New_York
BEGIN:STANDARD
TZNAME:EST
DTSTART:20271107T020000
TZOFFSETFROM:-0400
TZOFFSETTO:-0500
RDATE:20281105T020000
END:STANDARD
BEGIN:DAYLIGHT
TZNAME:EDT
DTSTART:20270314T020000
TZOFFSETFROM:-0500
TZOFFSETTO:-0400
RDATE:20280312T020000
RDATE:20290311T020000
END:DAYLIGHT
END:VTIMEZONE
BEGIN:VEVENT
UID:9bfa68b9-a6c6-4eea-9c1f-8e56d6e36adb
DTSTAMP:20260425T121839Z
DESCRIPTION:1969: First permanent ARPANET link established.
DTSTART;TZID=America/New_York:20271121T000000
DTEND;TZID=America/New_York:20271121T235900
LOCATION:
SUMMARY:1969: First permanent ARPANET link established.
END:VEVENT
END:VCALENDAR
