BEGIN:VCALENDAR
VERSION:2.0
PRODID:-//archive.cryptologicfoundation.org//NONSGML kigkonsult.se iCalcrea
 tor 2.30.10//
CALSCALE:GREGORIAN
METHOD:PUBLISH
UID:88d3e9a6-1f56-4d3c-a0e1-9f2b9ee1b2c7
X-WR-CALDESC:1941: Herbert O. Yardley was fired by Canada's National Resear
 ch Council.
X-WR-RELCALID:13996287ef54c823f176c6f77af786b9
X-WR-TIMEZONE:America/New_York
BEGIN:VTIMEZONE
TZID:America/New_York
BEGIN:STANDARD
TZNAME:EST
DTSTART:20271107T020000
TZOFFSETFROM:-0400
TZOFFSETTO:-0500
RDATE:20281105T020000
END:STANDARD
BEGIN:DAYLIGHT
TZNAME:EDT
DTSTART:20270314T020000
TZOFFSETFROM:-0500
TZOFFSETTO:-0400
RDATE:20280312T020000
RDATE:20290311T020000
END:DAYLIGHT
END:VTIMEZONE
BEGIN:VEVENT
UID:49e42419-8c7b-4c82-9c87-fb6811eacc1b
DTSTAMP:20260425T122500Z
DESCRIPTION:1941: Herbert O. Yardley was fired by Canada's National Researc
 h Council.
DTSTART;TZID=America/New_York:20271122T000000
DTEND;TZID=America/New_York:20271122T235900
LOCATION:
SUMMARY:1941: Herbert Yardley fired by Canada's National Research Council.
END:VEVENT
END:VCALENDAR
