BEGIN:VCALENDAR
VERSION:2.0
PRODID:-//archive.cryptologicfoundation.org//NONSGML kigkonsult.se iCalcrea
 tor 2.30.10//
CALSCALE:GREGORIAN
METHOD:PUBLISH
UID:08134bd9-c150-46e8-b39e-5b2077d18bd1
X-WR-CALDESC:23 November 1976: The Data Encryption Standard (DES) was appro
 ved as the federal standard for all unclassified government communications
 .
X-WR-RELCALID:c8f02efb4b22f42d62707b6c8ac7adbb
X-WR-TIMEZONE:America/New_York
BEGIN:VTIMEZONE
TZID:America/New_York
BEGIN:STANDARD
TZNAME:EST
DTSTART:20271107T020000
TZOFFSETFROM:-0400
TZOFFSETTO:-0500
RDATE:20281105T020000
END:STANDARD
BEGIN:DAYLIGHT
TZNAME:EDT
DTSTART:20270314T020000
TZOFFSETFROM:-0500
TZOFFSETTO:-0400
RDATE:20280312T020000
RDATE:20290311T020000
END:DAYLIGHT
END:VTIMEZONE
BEGIN:VEVENT
UID:911e1ea4-a844-4d16-a141-d506c61ac447
DTSTAMP:20260425T121834Z
DESCRIPTION:23 November 1976: The Data Encryption Standard (DES) was approv
 ed as the federal standard for all unclassified government communications.
DTSTART;TZID=America/New_York:20271123T000000
DTEND;TZID=America/New_York:20271123T235900
LOCATION:
SUMMARY:1976: Data Encryption Standard Approved
END:VEVENT
END:VCALENDAR
