BEGIN:VCALENDAR
VERSION:2.0
PRODID:-//archive.cryptologicfoundation.org//NONSGML kigkonsult.se iCalcrea
 tor 2.30.10//
CALSCALE:GREGORIAN
METHOD:PUBLISH
UID:2bb34046-3475-4773-90e0-c88bc2eb8051
X-WR-CALDESC:24 November 1956: Lt Gen John A. Samford\, USAF\, became the D
 irector of the National Security Agency. He held this post until his retir
 ement on 23 November 1960.
X-WR-RELCALID:bc986a43bad7507c2054144e14eb398b
X-WR-TIMEZONE:America/New_York
BEGIN:VTIMEZONE
TZID:America/New_York
BEGIN:STANDARD
TZNAME:EST
DTSTART:20271107T020000
TZOFFSETFROM:-0400
TZOFFSETTO:-0500
RDATE:20281105T020000
END:STANDARD
BEGIN:DAYLIGHT
TZNAME:EDT
DTSTART:20270314T020000
TZOFFSETFROM:-0500
TZOFFSETTO:-0400
RDATE:20280312T020000
RDATE:20290311T020000
END:DAYLIGHT
END:VTIMEZONE
BEGIN:VEVENT
UID:bb427c27-d102-4aca-8beb-e57af4c59033
DTSTAMP:20260425T122151Z
DESCRIPTION:24 November 1956: Lt Gen John A. Samford\, USAF\, became the Di
 rector of the National Security Agency. He held this post until his retire
 ment on 23 November 1960.
DTSTART;TZID=America/New_York:20271124T000000
DTEND;TZID=America/New_York:20271124T235900
LOCATION:
SUMMARY:1956: Lt Gen John A. Samford\, USAF\, became DIRNSA.
END:VEVENT
END:VCALENDAR
