BEGIN:VCALENDAR
VERSION:2.0
PRODID:-//archive.cryptologicfoundation.org//NONSGML kigkonsult.se iCalcrea
 tor 2.30.10//
CALSCALE:GREGORIAN
METHOD:PUBLISH
UID:73cd9ec1-b4e0-4c1e-8d4f-604f13472282
X-WR-CALDESC:24 November 1960: VADM Laurence Frost became Director of the N
 ational Security Agency.
X-WR-RELCALID:8777ddc06105841e1e11f7068a119325
X-WR-TIMEZONE:America/New_York
BEGIN:VTIMEZONE
TZID:America/New_York
BEGIN:STANDARD
TZNAME:EST
DTSTART:20271107T020000
TZOFFSETFROM:-0400
TZOFFSETTO:-0500
RDATE:20281105T020000
END:STANDARD
BEGIN:DAYLIGHT
TZNAME:EDT
DTSTART:20270314T020000
TZOFFSETFROM:-0500
TZOFFSETTO:-0400
RDATE:20280312T020000
RDATE:20290311T020000
END:DAYLIGHT
END:VTIMEZONE
BEGIN:VEVENT
UID:5a0e2192-ff34-4d5d-9f3a-5b63aecb1e3b
DTSTAMP:20260425T122604Z
DESCRIPTION:24 November 1960: VADM Laurence Frost became Director of the Na
 tional Security Agency.
DTSTART;TZID=America/New_York:20271124T000000
DTEND;TZID=America/New_York:20271124T235900
LOCATION:
SUMMARY:1960: VADM Laurence Frost\, USN\, became DIRNSA.
END:VEVENT
END:VCALENDAR
