BEGIN:VCALENDAR
VERSION:2.0
PRODID:-//archive.cryptologicfoundation.org//NONSGML kigkonsult.se iCalcrea
 tor 2.30.10//
CALSCALE:GREGORIAN
METHOD:PUBLISH
UID:785f6555-a773-4083-8f02-999485881dac
X-WR-CALDESC:9 December 1992: Premiere of William Gibson's 'Agrippa - Book 
 of the Dead' an innovative poetic work released in digital format that imm
 ediately encrypted itself after a single use. It remained unbroken for alm
 ost two decades.\n\nFrom Wikipedia: 'Agrippa (A Book of the Dead)' is a wo
 rk of art created by speculative fiction novelist William Gibson\, artist 
 Dennis Ashbaugh\, and publisher Kevin Begos Jr. in 1992. The work consists
  of a 300-line semi-autobiographical electronic poem by Gibson\, embedded 
 in an artist's book by Ashbaugh. Gibson's text focused on the ethereal nat
 ure of memories (the title is taken from a photo album). Its principal not
 oriety arose from the fact that the poem\, stored on a 3.5' floppy disk\, 
 was programmed to encrypt itself after a single use\; similarly\, the page
 s of the artist's book were treated with photosensitive chemicals\, effect
 ing the gradual fading of the words and images from the book's first expos
 ure to light.
X-WR-RELCALID:e7aefc07b1d20ce351913d0e2a17eb8e
X-WR-TIMEZONE:America/New_York
BEGIN:VTIMEZONE
TZID:America/New_York
BEGIN:STANDARD
TZNAME:EST
DTSTART:20271107T020000
TZOFFSETFROM:-0400
TZOFFSETTO:-0500
RDATE:20281105T020000
END:STANDARD
BEGIN:DAYLIGHT
TZNAME:EDT
DTSTART:20270314T020000
TZOFFSETFROM:-0500
TZOFFSETTO:-0400
RDATE:20280312T020000
RDATE:20290311T020000
END:DAYLIGHT
END:VTIMEZONE
BEGIN:VEVENT
UID:45fb2bac-4332-4d21-ada8-41179f9300d9
DTSTAMP:20260425T140823Z
DESCRIPTION:9 December 1992: Premiere of William Gibson's 'Agrippa - Book o
 f the Dead' an innovative poetic work released in digital format that imme
 diately encrypted itself after a single use. It remained unbroken for almo
 st two decades.\n\nFrom Wikipedia: 'Agrippa (A Book of the Dead)' is a wor
 k of art created by speculative fiction novelist William Gibson\, artist D
 ennis Ashbaugh\, and publisher Kevin Begos Jr. in 1992. The work consists 
 of a 300-line semi-autobiographical electronic poem by Gibson\, embedded i
 n an artist's book by Ashbaugh. Gibson's text focused on the ethereal natu
 re of memories (the title is taken from a photo album). Its principal noto
 riety arose from the fact that the poem\, stored on a 3.5' floppy disk\, w
 as programmed to encrypt itself after a single use\; similarly\, the pages
  of the artist's book were treated with photosensitive chemicals\, effecti
 ng the gradual fading of the words and images from the book's first exposu
 re to light.
DTSTART;TZID=America/New_York:20271209T000000
DTEND;TZID=America/New_York:20271209T235900
LOCATION:
SUMMARY:1992: Premiere of William Gibson's 'Agrippa'
END:VEVENT
END:VCALENDAR
