BEGIN:VCALENDAR
VERSION:2.0
PRODID:-//archive.cryptologicfoundation.org//NONSGML kigkonsult.se iCalcrea
 tor 2.30.10//
CALSCALE:GREGORIAN
METHOD:PUBLISH
UID:9a6d15d1-6a4e-4eef-8da3-1533af25b6a9
X-WR-CALDESC:11 December 1941: Germany and Italy declared war on the United
  States.\n\nFrom 'On This Day' via News.bbc.co.uk:  \n\nItalian dictator\,
  Benito Mussolini\, made his declaration first - from the balcony over the
  Piazza Venezia in Rome - pledging the 'powers of the pact of steel' were 
 determined to win.\n\nThen Adolf Hitler made his announcement at the Reich
 stag in Berlin saying he had tried to avoid direct conflict with the US bu
 t\, under the Tripartite Agreement signed on 27 September 1940\, Germany w
 as obliged to join with Italy to defend its ally Japan.\n\n'After victory 
 has been achieved\,' he said. 'Germany\, Italy and Japan will continue in 
 closest co-operation with a view to establishing a new and just order.' He
  accused President Roosevelt of waging a campaign against Germany since 19
 37\, blamed him for the outbreak of war in 1939 and said he was planning t
 o invade Germany in 1943.\n\nOver in Washington\, President Roosevelt told
  Congress the free world must act quickly and decisively against the enemy
 .\n\n'The forces endeavouring to enslave the entire world now are moving t
 owards this hemisphere. Delay invites danger. Rapid and united efforts by 
 all peoples of the world who are determined to remain free will ensure wor
 ld victory for the forces of justice and righteousness over the forces of 
 savagery and barbarism.'\n\nResolutions against Germany and Italy were pas
 sed without debate. The only person who did not vote for war was pacifist 
 Congresswoman Jeannette Rankin who had also voted against war with Japan. 
 In the Senate the vote was unanimous. Both Democrats and Republicans have 
 agreed to 'adjourn politics' for the duration of the war and focus on nati
 onal defence. They have passed a new law which allows US servicemen to fig
 ht anywhere in the world.\n\nFollowing the shock of Pearl Harbor\, America
 n citizens are flocking to volunteer for the US Navy and Marine Corps whic
 h do not take conscripts. The US Army has already grown tenfold since the 
 draft was introduced one year prior.
X-WR-RELCALID:672b471e62776694db3999c9213adfe9
X-WR-TIMEZONE:America/New_York
BEGIN:VTIMEZONE
TZID:America/New_York
BEGIN:STANDARD
TZNAME:EST
DTSTART:20271107T020000
TZOFFSETFROM:-0400
TZOFFSETTO:-0500
RDATE:20281105T020000
END:STANDARD
BEGIN:DAYLIGHT
TZNAME:EDT
DTSTART:20270314T020000
TZOFFSETFROM:-0500
TZOFFSETTO:-0400
RDATE:20280312T020000
RDATE:20290311T020000
END:DAYLIGHT
END:VTIMEZONE
BEGIN:VEVENT
UID:4fe9ab92-daf4-4339-a106-dfe84c1fe2fc
DTSTAMP:20260425T141049Z
DESCRIPTION:11 December 1941: Germany and Italy declared war on the United 
 States.\n\nFrom 'On This Day' via News.bbc.co.uk:  \n\nItalian dictator\, 
 Benito Mussolini\, made his declaration first - from the balcony over the 
 Piazza Venezia in Rome - pledging the 'powers of the pact of steel' were d
 etermined to win.\n\nThen Adolf Hitler made his announcement at the Reichs
 tag in Berlin saying he had tried to avoid direct conflict with the US but
 \, under the Tripartite Agreement signed on 27 September 1940\, Germany wa
 s obliged to join with Italy to defend its ally Japan.\n\n'After victory h
 as been achieved\,' he said. 'Germany\, Italy and Japan will continue in c
 losest co-operation with a view to establishing a new and just order.' He 
 accused President Roosevelt of waging a campaign against Germany since 193
 7\, blamed him for the outbreak of war in 1939 and said he was planning to
  invade Germany in 1943.\n\nOver in Washington\, President Roosevelt told 
 Congress the free world must act quickly and decisively against the enemy.
 \n\n'The forces endeavouring to enslave the entire world now are moving to
 wards this hemisphere. Delay invites danger. Rapid and united efforts by a
 ll peoples of the world who are determined to remain free will ensure worl
 d victory for the forces of justice and righteousness over the forces of s
 avagery and barbarism.'\n\nResolutions against Germany and Italy were pass
 ed without debate. The only person who did not vote for war was pacifist C
 ongresswoman Jeannette Rankin who had also voted against war with Japan. I
 n the Senate the vote was unanimous. Both Democrats and Republicans have a
 greed to 'adjourn politics' for the duration of the war and focus on natio
 nal defence. They have passed a new law which allows US servicemen to figh
 t anywhere in the world.\n\nFollowing the shock of Pearl Harbor\, American
  citizens are flocking to volunteer for the US Navy and Marine Corps which
  do not take conscripts. The US Army has already grown tenfold since the d
 raft was introduced one year prior.
DTSTART;TZID=America/New_York:20271211T000000
DTEND;TZID=America/New_York:20271211T235900
LOCATION:
SUMMARY:1941: Germany and Italy Declared War on the U.S.
END:VEVENT
END:VCALENDAR
