BEGIN:VCALENDAR
VERSION:2.0
PRODID:-//archive.cryptologicfoundation.org//NONSGML kigkonsult.se iCalcrea
 tor 2.30.10//
CALSCALE:GREGORIAN
METHOD:PUBLISH
UID:7062f591-ebf7-48ca-9623-d6d06d5c1983
X-WR-CALDESC:14 December 1958: The first NSA holiday party took place. \nPh
 oto is of the NSA Headquarters building\, lit up with a holiday message in
  the 1960s.
X-WR-RELCALID:3b60837f6b44c72958b5d93de63266cc
X-WR-TIMEZONE:America/New_York
BEGIN:VTIMEZONE
TZID:America/New_York
BEGIN:STANDARD
TZNAME:EST
DTSTART:20271107T020000
TZOFFSETFROM:-0400
TZOFFSETTO:-0500
RDATE:20281105T020000
END:STANDARD
BEGIN:DAYLIGHT
TZNAME:EDT
DTSTART:20270314T020000
TZOFFSETFROM:-0500
TZOFFSETTO:-0400
RDATE:20280312T020000
RDATE:20290311T020000
END:DAYLIGHT
END:VTIMEZONE
BEGIN:VEVENT
UID:27410d95-a08e-477e-9b30-e199b5642951
DTSTAMP:20260425T141146Z
DESCRIPTION:14 December 1958: The first NSA holiday party took place. \nPho
 to is of the NSA Headquarters building\, lit up with a holiday message in 
 the 1960s.
DTSTART;TZID=America/New_York:20271214T000000
DTEND;TZID=America/New_York:20271214T235900
LOCATION:
SUMMARY:1958: First NSA Holiday Party.
END:VEVENT
END:VCALENDAR
