BEGIN:VCALENDAR
VERSION:2.0
PRODID:-//archive.cryptologicfoundation.org//NONSGML kigkonsult.se iCalcrea
 tor 2.30.10//
CALSCALE:GREGORIAN
METHOD:PUBLISH
UID:af28e829-f750-4d85-9b50-c9f623768a3d
X-WR-CALDESC:14 December 1977: Ronald Rivest\, Adi Shamir\, and Leonard Adl
 eman file for a patent for what came to be the RSA public-key encryption a
 lgorithm (named after the inventors). The patent was awarded on 20 Septemb
 er 1983. Pictured in the photo - left to right:  Adi Shamir\, Ron Rivest\,
  and Len Adleman. Photo courtesy of Dan Wright's RSA Algorithm course on i
 mps.mcmaster.ca. \n\nExcerpt from <b><a href='http://cs.stanford.edu/peopl
 e/eroberts/cs201/projects/software-patents/rsa.html'>'RSA Public Key Encry
 ption'</a></b>: U.S. Patent 4\,405\,829 was awarded to the Massachusetts I
 nstitute of Technology on September 20\, 1983 for its 'Cryptographic commu
 nications system and method.' The three inventors\, which the patent is na
 med after\, are Ronald Rivest\, Adi Shamir\, and Leonard Adleman. The pate
 nt expires 17 years from the date it was issued\, Sept 21\, 2000.\n\nThe R
 SA cryptosystem\, as described in the patent\, is a public-key cryptosyste
 m that offers both encryption and digital signatures. The cryptosystem is 
 able to encrypt and create digital signatures by taking advantage of the f
 act that factoring is a 'hard' mathematical problem. Factoring is actually
  one of three commonly used 'hard problems' for cryptography\; the other t
 wo are the discrete logarithm problem and elliptic curves.\n\nThe RSA cryp
 tosystem has been incorporated into popular products such as Secure Socket
  Layer (SSL) and Secure Shell (SSH) as well as numerous other commercial p
 roducts.
X-WR-RELCALID:f67613bd9c3586dae14870703d0e4693
X-WR-TIMEZONE:America/New_York
BEGIN:VTIMEZONE
TZID:America/New_York
BEGIN:STANDARD
TZNAME:EST
DTSTART:20271107T020000
TZOFFSETFROM:-0400
TZOFFSETTO:-0500
RDATE:20281105T020000
END:STANDARD
BEGIN:DAYLIGHT
TZNAME:EDT
DTSTART:20270314T020000
TZOFFSETFROM:-0500
TZOFFSETTO:-0400
RDATE:20280312T020000
RDATE:20290311T020000
END:DAYLIGHT
END:VTIMEZONE
BEGIN:VEVENT
UID:25c801db-72bf-4c93-9fb8-2a54c4a6f336
DTSTAMP:20260425T140806Z
DESCRIPTION:14 December 1977: Ronald Rivest\, Adi Shamir\, and Leonard Adle
 man file for a patent for what came to be the RSA public-key encryption al
 gorithm (named after the inventors). The patent was awarded on 20 Septembe
 r 1983. Pictured in the photo - left to right:  Adi Shamir\, Ron Rivest\, 
 and Len Adleman. Photo courtesy of Dan Wright's RSA Algorithm course on im
 ps.mcmaster.ca. \n\nExcerpt from <b><a href='http://cs.stanford.edu/people
 /eroberts/cs201/projects/software-patents/rsa.html'>'RSA Public Key Encryp
 tion'</a></b>: U.S. Patent 4\,405\,829 was awarded to the Massachusetts In
 stitute of Technology on September 20\, 1983 for its 'Cryptographic commun
 ications system and method.' The three inventors\, which the patent is nam
 ed after\, are Ronald Rivest\, Adi Shamir\, and Leonard Adleman. The paten
 t expires 17 years from the date it was issued\, Sept 21\, 2000.\n\nThe RS
 A cryptosystem\, as described in the patent\, is a public-key cryptosystem
  that offers both encryption and digital signatures. The cryptosystem is a
 ble to encrypt and create digital signatures by taking advantage of the fa
 ct that factoring is a 'hard' mathematical problem. Factoring is actually 
 one of three commonly used 'hard problems' for cryptography\; the other tw
 o are the discrete logarithm problem and elliptic curves.\n\nThe RSA crypt
 osystem has been incorporated into popular products such as Secure Socket 
 Layer (SSL) and Secure Shell (SSH) as well as numerous other commercial pr
 oducts.
DTSTART;TZID=America/New_York:20271214T000000
DTEND;TZID=America/New_York:20271214T235900
LOCATION:
SUMMARY:1977: Filing for RSA Patent
END:VEVENT
END:VCALENDAR
