BEGIN:VCALENDAR
VERSION:2.0
PRODID:-//archive.cryptologicfoundation.org//NONSGML kigkonsult.se iCalcrea
 tor 2.30.10//
CALSCALE:GREGORIAN
METHOD:PUBLISH
UID:fe1a9cf0-29ad-41d1-83e6-b5b90a9359d7
X-WR-CALDESC:16 Dec 1972: NSOC inaugurated. The official ribbon cutting cer
 emony was held in February 1973.
X-WR-RELCALID:58e15c5fa369ab1ef38fe0439bce1a53
X-WR-TIMEZONE:America/New_York
BEGIN:VTIMEZONE
TZID:America/New_York
BEGIN:STANDARD
TZNAME:EST
DTSTART:20271107T020000
TZOFFSETFROM:-0400
TZOFFSETTO:-0500
RDATE:20281105T020000
END:STANDARD
BEGIN:DAYLIGHT
TZNAME:EDT
DTSTART:20270314T020000
TZOFFSETFROM:-0500
TZOFFSETTO:-0400
RDATE:20280312T020000
RDATE:20290311T020000
END:DAYLIGHT
END:VTIMEZONE
BEGIN:VEVENT
UID:376519d1-ceaa-4e91-a1c2-bed9a8f36456
DTSTAMP:20260425T140643Z
DESCRIPTION:16 Dec 1972: NSOC inaugurated. The official ribbon cutting cere
 mony was held in February 1973.
DTSTART;TZID=America/New_York:20271216T000000
DTEND;TZID=America/New_York:20271216T235900
LOCATION:
SUMMARY:1972: NSOC Inaugurated
END:VEVENT
END:VCALENDAR
