BEGIN:VCALENDAR
VERSION:2.0
PRODID:-//archive.cryptologicfoundation.org//NONSGML kigkonsult.se iCalcrea
 tor 2.30.10//
CALSCALE:GREGORIAN
METHOD:PUBLISH
UID:040372e5-16ab-49fd-9443-cf6f4e7365b6
X-WR-CALDESC:17 Dec 1993: The National Cryptologic Museum opened to the pub
 lic. Read about the <b><a href='https://cryptologicfoundation.org/about/ba
 ckground/history.html'>Museum's History.</a></b> \n\nDid you know that ...
 .It was captured Axis cryptographic equipment that became the basis for a 
 small and little known Research and Development Museum collection (RDM) th
 at was the NCM’s precursor?\n\nWilliam F. Friedman and Lambros Callimahos 
 (who set up his own makeshift office museum) originally cared for the equi
 pment. Then in 1970\, Earl J. Coates\, NSA’s first curator\, set up museum
 -like exhibits in the lobby of NSA headquarters.\n\nWhen the old Colony 7 
 Motel adjacent to NSA was purchased in the spring of 1990\, Vice Admiral W
 illiam O. Studeman\, then-Agency director\, was the first to suggest it be
  used as an NSA-operated museum.\n\nThe Museum initially opened on 15 July
  1993 for NSA employees and families\, as well as members of the Intellige
 nce Community. But once the Museum opened to the public in December 1993\,
  media interest and attendance boomed. Requests for interviews poured in a
 nd stories appeared in outlets all over the world. About 10\,000 visitors 
 stopped by that first year\, a remarkable number considering the museum’s 
 furtive beginning. The photo shown here is of the Museum in 1993 when it w
 as a one-room open exhibit area.
X-WR-RELCALID:df29a0165fbf21d03d052186b77f6f32
X-WR-TIMEZONE:America/New_York
BEGIN:VTIMEZONE
TZID:America/New_York
BEGIN:STANDARD
TZNAME:EST
DTSTART:20271107T020000
TZOFFSETFROM:-0400
TZOFFSETTO:-0500
RDATE:20281105T020000
END:STANDARD
BEGIN:DAYLIGHT
TZNAME:EDT
DTSTART:20270314T020000
TZOFFSETFROM:-0500
TZOFFSETTO:-0400
RDATE:20280312T020000
RDATE:20290311T020000
END:DAYLIGHT
END:VTIMEZONE
BEGIN:VEVENT
UID:13ef75f3-454a-4781-be44-badb9b7c5e46
DTSTAMP:20260425T140710Z
DESCRIPTION:17 Dec 1993: The National Cryptologic Museum opened to the publ
 ic. Read about the <b><a href='https://cryptologicfoundation.org/about/bac
 kground/history.html'>Museum's History.</a></b> \n\nDid you know that ....
 It was captured Axis cryptographic equipment that became the basis for a s
 mall and little known Research and Development Museum collection (RDM) tha
 t was the NCM’s precursor?\n\nWilliam F. Friedman and Lambros Callimahos (
 who set up his own makeshift office museum) originally cared for the equip
 ment. Then in 1970\, Earl J. Coates\, NSA’s first curator\, set up museum-
 like exhibits in the lobby of NSA headquarters.\n\nWhen the old Colony 7 M
 otel adjacent to NSA was purchased in the spring of 1990\, Vice Admiral Wi
 lliam O. Studeman\, then-Agency director\, was the first to suggest it be 
 used as an NSA-operated museum.\n\nThe Museum initially opened on 15 July 
 1993 for NSA employees and families\, as well as members of the Intelligen
 ce Community. But once the Museum opened to the public in December 1993\, 
 media interest and attendance boomed. Requests for interviews poured in an
 d stories appeared in outlets all over the world. About 10\,000 visitors s
 topped by that first year\, a remarkable number considering the museum’s f
 urtive beginning. The photo shown here is of the Museum in 1993 when it wa
 s a one-room open exhibit area.
DTSTART;TZID=America/New_York:20271217T060000
DTEND;TZID=America/New_York:20271217T060001
LOCATION:
SUMMARY:OTD in 1993: National Cryptologic Museum Opened to the Public
END:VEVENT
END:VCALENDAR
