BEGIN:VCALENDAR
VERSION:2.0
PRODID:-//archive.cryptologicfoundation.org//NONSGML kigkonsult.se iCalcrea
 tor 2.30.10//
CALSCALE:GREGORIAN
METHOD:PUBLISH
UID:df2432f0-7697-43ff-8935-90dd9cee80c0
X-WR-CALDESC:Dr. Lowell K. 'Jim' Frazer died OTD in 2013. Dr. Frazer was a 
 leader in mathematics and the founder of modern cryptographic evaluation. 
 As a result of his efforts\, all cryptography used for classified applicat
 ions by the U.S. Department of Defense and Intelligence Community is now s
 ubject to rigorous scientific evaluation. He was inducted into the NSA/CSS
  Hall of Honor in 2003. \n\nClick the link below to visit his NSA Hall of 
 Honor page.
X-WR-RELCALID:e4f9ed0a58e8d6d6cf88e3b719d6d29e
X-WR-TIMEZONE:America/New_York
BEGIN:VTIMEZONE
TZID:America/New_York
BEGIN:STANDARD
TZNAME:EST
DTSTART:20271107T020000
TZOFFSETFROM:-0400
TZOFFSETTO:-0500
RDATE:20281105T020000
END:STANDARD
BEGIN:DAYLIGHT
TZNAME:EDT
DTSTART:20270314T020000
TZOFFSETFROM:-0500
TZOFFSETTO:-0400
RDATE:20280312T020000
RDATE:20290311T020000
END:DAYLIGHT
END:VTIMEZONE
BEGIN:VEVENT
UID:2755d9fa-fe7c-4cb4-94a5-b471f71ff7a7
DTSTAMP:20260425T141352Z
DESCRIPTION:Dr. Lowell K. 'Jim' Frazer died OTD in 2013. Dr. Frazer was a l
 eader in mathematics and the founder of modern cryptographic evaluation. A
 s a result of his efforts\, all cryptography used for classified applicati
 ons by the U.S. Department of Defense and Intelligence Community is now su
 bject to rigorous scientific evaluation. He was inducted into the NSA/CSS 
 Hall of Honor in 2003. \n\nClick the link below to visit his NSA Hall of H
 onor page.
DTSTART;TZID=America/New_York:20271218T060000
DTEND;TZID=America/New_York:20271218T060001
LOCATION:
SUMMARY:2013: Death of Dr. Lowell K. 'Jim' Frazer
END:VEVENT
END:VCALENDAR
