BEGIN:VCALENDAR
VERSION:2.0
PRODID:-//archive.cryptologicfoundation.org//NONSGML kigkonsult.se iCalcrea
 tor 2.30.10//
CALSCALE:GREGORIAN
METHOD:PUBLISH
UID:aa72b81b-89a2-4faf-a001-18102a562e1f
X-WR-CALDESC:20 Dec 1881: First telephone ciphony device invented by James 
 Harris Rodgers\, chief electrician of the U.S. Capitol.
X-WR-RELCALID:b2bff3a5294807e24ba99d52aafa3353
X-WR-TIMEZONE:America/New_York
BEGIN:VTIMEZONE
TZID:America/New_York
BEGIN:STANDARD
TZNAME:EST
DTSTART:20271107T020000
TZOFFSETFROM:-0400
TZOFFSETTO:-0500
RDATE:20281105T020000
END:STANDARD
BEGIN:DAYLIGHT
TZNAME:EDT
DTSTART:20270314T020000
TZOFFSETFROM:-0500
TZOFFSETTO:-0400
RDATE:20280312T020000
RDATE:20290311T020000
END:DAYLIGHT
END:VTIMEZONE
BEGIN:VEVENT
UID:5163b152-74ee-4c86-824d-5006214ea9f0
DTSTAMP:20260425T141207Z
DESCRIPTION:20 Dec 1881: First telephone ciphony device invented by James H
 arris Rodgers\, chief electrician of the U.S. Capitol.
DTSTART;TZID=America/New_York:20271220T000000
DTEND;TZID=America/New_York:20271220T235900
LOCATION:
SUMMARY:1881: First telephone ciphony device invented by James Harris Rodge
 rs.
END:VEVENT
END:VCALENDAR
