BEGIN:VCALENDAR
VERSION:2.0
PRODID:-//archive.cryptologicfoundation.org//NONSGML kigkonsult.se iCalcrea
 tor 2.30.10//
CALSCALE:GREGORIAN
METHOD:PUBLISH
UID:d933cb8f-10ba-417b-846b-8f071e1523b9
X-WR-CALDESC:20 Dec 1946: Meredith Gardner broke into a KGB message contain
 ing list of scientists working on the Manhattan Project. Mr. Gardner was i
 nducted into the NSA Cryptologic Hall of Honor in 2004. Read an excerpt be
 low or click the link below for the full entry. You can also learn more ab
 out Meredith Gardner on the<b> <a href='http://spartacus-educational.com/M
 eredith_Gardner.htm'>Spartacus Educational site.</a></b> \n\nMr. Gardner p
 roved instrumental in breaking the underlying code and led the efforts to 
 reconstruct the codebooks. By identifying the 'spell' and 'end spell' indi
 cators\, Meredith Gardner was able to recover the portion of the codebook 
 used for spelling English names and phrases in a message. He continued to 
 build on his success\, recovering more and more code groups. The first mes
 sage was broken in February 1946. The value of his work was clearly demons
 trated in July 1946\, when he decoded a message containing encryption proc
 edures for Soviet spies in Mexico.\n\nMr. Gardner decided that merely decr
 ypting VENONA messages was not enough if the decrypts could not be put to 
 good use. He sent a memo\, 'Special Report #1\,' to a small number of Army
  Security Agency (ASA) seniors in the summer of 1947\, describing what sor
 t of intelligence VENONA could provide. He also included samples of the ma
 terial being recovered. Mr. Gardner's report helped the Army's leadership 
 to recognize the value of VENONA\, leading to cooperation between the ASA 
 (later NSA) and the FBI in the identification of Soviet agents working in 
 the United States.
X-WR-RELCALID:cf2df69902dbb459aaee96b530c9fb30
X-WR-TIMEZONE:America/New_York
BEGIN:VTIMEZONE
TZID:America/New_York
BEGIN:STANDARD
TZNAME:EST
DTSTART:20271107T020000
TZOFFSETFROM:-0400
TZOFFSETTO:-0500
RDATE:20281105T020000
END:STANDARD
BEGIN:DAYLIGHT
TZNAME:EDT
DTSTART:20270314T020000
TZOFFSETFROM:-0500
TZOFFSETTO:-0400
RDATE:20280312T020000
RDATE:20290311T020000
END:DAYLIGHT
END:VTIMEZONE
BEGIN:VEVENT
UID:a243e253-f967-489e-9c69-6832c1ff4bf7
DTSTAMP:20260425T140817Z
DESCRIPTION:20 Dec 1946: Meredith Gardner broke into a KGB message containi
 ng list of scientists working on the Manhattan Project. Mr. Gardner was in
 ducted into the NSA Cryptologic Hall of Honor in 2004. Read an excerpt bel
 ow or click the link below for the full entry. You can also learn more abo
 ut Meredith Gardner on the<b> <a href='http://spartacus-educational.com/Me
 redith_Gardner.htm'>Spartacus Educational site.</a></b> \n\nMr. Gardner pr
 oved instrumental in breaking the underlying code and led the efforts to r
 econstruct the codebooks. By identifying the 'spell' and 'end spell' indic
 ators\, Meredith Gardner was able to recover the portion of the codebook u
 sed for spelling English names and phrases in a message. He continued to b
 uild on his success\, recovering more and more code groups. The first mess
 age was broken in February 1946. The value of his work was clearly demonst
 rated in July 1946\, when he decoded a message containing encryption proce
 dures for Soviet spies in Mexico.\n\nMr. Gardner decided that merely decry
 pting VENONA messages was not enough if the decrypts could not be put to g
 ood use. He sent a memo\, 'Special Report #1\,' to a small number of Army 
 Security Agency (ASA) seniors in the summer of 1947\, describing what sort
  of intelligence VENONA could provide. He also included samples of the mat
 erial being recovered. Mr. Gardner's report helped the Army's leadership t
 o recognize the value of VENONA\, leading to cooperation between the ASA (
 later NSA) and the FBI in the identification of Soviet agents working in t
 he United States.
DTSTART;TZID=America/New_York:20271220T060000
DTEND;TZID=America/New_York:20271220T060001
LOCATION:
SUMMARY:1946: Meredith Gardner broke into KGB message re: Manhattan Project
 .
END:VEVENT
END:VCALENDAR
