BEGIN:VCALENDAR
VERSION:2.0
PRODID:-//archive.cryptologicfoundation.org//NONSGML kigkonsult.se iCalcrea
 tor 2.30.10//
CALSCALE:GREGORIAN
METHOD:PUBLISH
UID:ac77aef4-649c-44d3-b33d-6daae5098f2c
X-WR-CALDESC:22 Dec 1961: SP4 James Davis became the first American cryptol
 ogist killed in Vietnam. Learn about SP4 Davis in a special NSA pdf. Click
  the link below to read the pdf.\n\nSP4 Davis's name is on the NSA Cryptol
 ogic Memorial Wall. The wall\, dedicated in 1996\, lists 176 names of Army
 \, Navy\, Air Force\, Marine\, and civilian cryptologists who have made th
 e ultimate sacrifice. The black granite memorial stands eight feet tall by
  12 feet wide with the words THEY SERVED IN SILENCE etched into the polish
 ed stone at the cap of a triangle. The NSA seal is carved below followed b
 y the names of those cryptologists who have given their lives in service t
 o their country. The names are at the base of the triangle because these c
 ryptologists and their ideals -dedication to mission\, dedication to workm
 ate\, and dedication to country - form the foundation for cryptologic serv
 ice. The structure was designed by an NSA employee\, and the memorial is h
 oused in the NSA headquarters complex.\n\nOn Memorial Day 2001\, NSA began
  a tradition of declassifying and sharing the stories behind the names on 
 the wall. Learn more via the link below.
X-WR-RELCALID:798b4d83da19cf049b631d51ad2fc497
X-WR-TIMEZONE:America/New_York
BEGIN:VTIMEZONE
TZID:America/New_York
BEGIN:STANDARD
TZNAME:EST
DTSTART:20271107T020000
TZOFFSETFROM:-0400
TZOFFSETTO:-0500
RDATE:20281105T020000
END:STANDARD
BEGIN:DAYLIGHT
TZNAME:EDT
DTSTART:20270314T020000
TZOFFSETFROM:-0500
TZOFFSETTO:-0400
RDATE:20280312T020000
RDATE:20290311T020000
END:DAYLIGHT
END:VTIMEZONE
BEGIN:VEVENT
UID:6135f4aa-ce2e-4b29-b07a-2d7c87001f1e
DTSTAMP:20260425T141459Z
DESCRIPTION:22 Dec 1961: SP4 James Davis became the first American cryptolo
 gist killed in Vietnam. Learn about SP4 Davis in a special NSA pdf. Click 
 the link below to read the pdf.\n\nSP4 Davis's name is on the NSA Cryptolo
 gic Memorial Wall. The wall\, dedicated in 1996\, lists 176 names of Army\
 , Navy\, Air Force\, Marine\, and civilian cryptologists who have made the
  ultimate sacrifice. The black granite memorial stands eight feet tall by 
 12 feet wide with the words THEY SERVED IN SILENCE etched into the polishe
 d stone at the cap of a triangle. The NSA seal is carved below followed by
  the names of those cryptologists who have given their lives in service to
  their country. The names are at the base of the triangle because these cr
 yptologists and their ideals -dedication to mission\, dedication to workma
 te\, and dedication to country - form the foundation for cryptologic servi
 ce. The structure was designed by an NSA employee\, and the memorial is ho
 used in the NSA headquarters complex.\n\nOn Memorial Day 2001\, NSA began 
 a tradition of declassifying and sharing the stories behind the names on t
 he wall. Learn more via the link below.
DTSTART;TZID=America/New_York:20271222T000000
DTEND;TZID=America/New_York:20271222T235900
LOCATION:
SUMMARY:1961: SP4 James Davis - first American cryptologist killed in Vietn
 am.
END:VEVENT
END:VCALENDAR
