BEGIN:VCALENDAR
VERSION:2.0
PRODID:-//archive.cryptologicfoundation.org//NONSGML kigkonsult.se iCalcrea
 tor 2.30.10//
CALSCALE:GREGORIAN
METHOD:PUBLISH
UID:341bdba3-9000-4d05-ad7b-baf7d74f7c58
X-WR-CALDESC:2001: 'Shoe Bomber' Richard Reid was arrested for attempt to d
 estroy Paris-Miami flight.
X-WR-RELCALID:65987bc416be5f35613a902a4014ff23
X-WR-TIMEZONE:America/New_York
BEGIN:VTIMEZONE
TZID:America/New_York
BEGIN:STANDARD
TZNAME:EST
DTSTART:20271107T020000
TZOFFSETFROM:-0400
TZOFFSETTO:-0500
RDATE:20281105T020000
END:STANDARD
BEGIN:DAYLIGHT
TZNAME:EDT
DTSTART:20270314T020000
TZOFFSETFROM:-0500
TZOFFSETTO:-0400
RDATE:20280312T020000
RDATE:20290311T020000
END:DAYLIGHT
END:VTIMEZONE
BEGIN:VEVENT
UID:701d1d9e-81f3-42fc-9976-f679d34a7666
DTSTAMP:20260425T141459Z
DESCRIPTION:2001: 'Shoe Bomber' Richard Reid was arrested for attempt to de
 stroy Paris-Miami flight.
DTSTART;TZID=America/New_York:20271222T000000
DTEND;TZID=America/New_York:20271222T235900
LOCATION:
SUMMARY:2001: Shoe-bomber Richard Reid arrested.
END:VEVENT
END:VCALENDAR
