BEGIN:VCALENDAR
VERSION:2.0
PRODID:-//archive.cryptologicfoundation.org//NONSGML kigkonsult.se iCalcrea
 tor 2.30.10//
CALSCALE:GREGORIAN
METHOD:PUBLISH
UID:79dac869-a66b-412c-9720-a8f076afbdd4
X-WR-CALDESC:It's December 1928 and Elizebeth and William Friedman sent a c
 oded holiday gram to friends and loved ones. The codebreaking couple fortu
 nately included a grille overlay that with a series of quarter turns would
  reveal the complete message. The full message reads...'For Christmas gree
 tings in '28\; Brings you word of xmas cheer\; A crypto telephotogram here
 \; We use a means quite up to date.' Happy Holidays!\n\nIn 2017\, Bill & J
 ew-Lee Briere celebrated the Friedman couple's anniversary and created a c
 rypto-cablegram in their honor. Click the link below to learn more and see
  if you can solve it!
X-WR-RELCALID:7ebe6d21a1cde045a239a690c46830b2
X-WR-TIMEZONE:America/New_York
BEGIN:VTIMEZONE
TZID:America/New_York
BEGIN:STANDARD
TZNAME:EST
DTSTART:20271107T020000
TZOFFSETFROM:-0400
TZOFFSETTO:-0500
RDATE:20281105T020000
END:STANDARD
BEGIN:DAYLIGHT
TZNAME:EDT
DTSTART:20270314T020000
TZOFFSETFROM:-0500
TZOFFSETTO:-0400
RDATE:20280312T020000
RDATE:20290311T020000
END:DAYLIGHT
END:VTIMEZONE
BEGIN:VEVENT
UID:20004a46-15d6-4cb2-838b-0a90dd783391
DTSTAMP:20260425T141224Z
DESCRIPTION:It's December 1928 and Elizebeth and William Friedman sent a co
 ded holiday gram to friends and loved ones. The codebreaking couple fortun
 ately included a grille overlay that with a series of quarter turns would 
 reveal the complete message. The full message reads...'For Christmas greet
 ings in '28\; Brings you word of xmas cheer\; A crypto telephotogram here\
 ; We use a means quite up to date.' Happy Holidays!\n\nIn 2017\, Bill & Je
 w-Lee Briere celebrated the Friedman couple's anniversary and created a cr
 ypto-cablegram in their honor. Click the link below to learn more and see 
 if you can solve it!
DTSTART;TZID=America/New_York:20271224T000000
DTEND;TZID=America/New_York:20271224T235900
LOCATION:
SUMMARY:1928: Friedman's Coded Holiday Gram
END:VEVENT
END:VCALENDAR
