BEGIN:VCALENDAR
VERSION:2.0
PRODID:-//archive.cryptologicfoundation.org//NONSGML kigkonsult.se iCalcrea
 tor 2.30.10//
CALSCALE:GREGORIAN
METHOD:PUBLISH
UID:3e8280a8-fcc3-48bc-87f0-05a681b79113
X-WR-CALDESC:During the holiday season in the late 1960s\, the National Sec
 urity Agency lit up the Headquarters Building to spell words in keeping wi
 th the theme of the season. Someone laid out the window design\, and emplo
 yees of each office were instructed about whether or not to leave their li
 ghts on or off\, accordingly. Someone went outside to check the window ali
 gnment and make sure all the designated windows were correctly illuminated
 . The messages included words like HOPE\, NOEL\, and JOY.\n\nWishing you a
  peaceful holiday season\, filled with hope and joy.
X-WR-RELCALID:45ea0c073c0ef6879a0665b69a00b291
X-WR-TIMEZONE:America/New_York
BEGIN:VTIMEZONE
TZID:America/New_York
BEGIN:STANDARD
TZNAME:EST
DTSTART:20271107T020000
TZOFFSETFROM:-0400
TZOFFSETTO:-0500
RDATE:20281105T020000
END:STANDARD
BEGIN:DAYLIGHT
TZNAME:EDT
DTSTART:20270314T020000
TZOFFSETFROM:-0500
TZOFFSETTO:-0400
RDATE:20280312T020000
RDATE:20290311T020000
END:DAYLIGHT
END:VTIMEZONE
BEGIN:VEVENT
UID:f0af108b-ed60-4bb9-a022-0eee9d9bbe8a
DTSTAMP:20260425T141332Z
DESCRIPTION:During the holiday season in the late 1960s\, the National Secu
 rity Agency lit up the Headquarters Building to spell words in keeping wit
 h the theme of the season. Someone laid out the window design\, and employ
 ees of each office were instructed about whether or not to leave their lig
 hts on or off\, accordingly. Someone went outside to check the window alig
 nment and make sure all the designated windows were correctly illuminated.
  The messages included words like HOPE\, NOEL\, and JOY.\n\nWishing you a 
 peaceful holiday season\, filled with hope and joy.
DTSTART;TZID=America/New_York:20271225T060000
DTEND;TZID=America/New_York:20271225T060001
LOCATION:
SUMMARY:Holiday Season Memories - NSA Building Messages
END:VEVENT
END:VCALENDAR
