BEGIN:VCALENDAR
VERSION:2.0
PRODID:-//archive.cryptologicfoundation.org//NONSGML kigkonsult.se iCalcrea
 tor 2.30.10//
CALSCALE:GREGORIAN
METHOD:PUBLISH
UID:4bb8fdfe-a59b-484b-99ec-e62a48a13575
X-WR-CALDESC:28 Dec 1951: Brownell Committee was established - this led to 
 the creation of NSA. \n\nLearn more in the NSA Cryptologic Almanac 50th An
 niversary Series PDF at the link below.
X-WR-RELCALID:de4b4b1b4d0b8fc7dbcd0ce992ae27ef
X-WR-TIMEZONE:America/New_York
BEGIN:VTIMEZONE
TZID:America/New_York
BEGIN:STANDARD
TZNAME:EST
DTSTART:20271107T020000
TZOFFSETFROM:-0400
TZOFFSETTO:-0500
RDATE:20281105T020000
END:STANDARD
BEGIN:DAYLIGHT
TZNAME:EDT
DTSTART:20270314T020000
TZOFFSETFROM:-0500
TZOFFSETTO:-0400
RDATE:20280312T020000
RDATE:20290311T020000
END:DAYLIGHT
END:VTIMEZONE
BEGIN:VEVENT
UID:40f48b25-c343-44dc-8490-472c2112d908
DTSTAMP:20260425T140418Z
DESCRIPTION:28 Dec 1951: Brownell Committee was established - this led to t
 he creation of NSA. \n\nLearn more in the NSA Cryptologic Almanac 50th Ann
 iversary Series PDF at the link below.
DTSTART;TZID=America/New_York:20271228T000000
DTEND;TZID=America/New_York:20271228T235900
LOCATION:
SUMMARY:1951: Brownell Committee established - led to creation of NSA.
END:VEVENT
END:VCALENDAR
