BEGIN:VCALENDAR
VERSION:2.0
PRODID:-//archive.cryptologicfoundation.org//NONSGML kigkonsult.se iCalcrea
 tor 2.30.10//
CALSCALE:GREGORIAN
METHOD:PUBLISH
UID:3f8f9709-bca8-46ba-baff-a1987a8a6fc1
X-WR-CALDESC:On this date in 1921 - William Friedman became the first civil
 ian cryptanalyst with the Office of the Chief Signal Officer. Friedman was
  a prolific author\, teacher\, and practitioner of cryptology. Much of wha
 t is done today at the National Security Agency may be traced to his pione
 ering efforts.\n\nLearn more via the link provide below.
X-WR-RELCALID:575c36af861fba3de4ec99460acf38c9
X-WR-TIMEZONE:America/New_York
BEGIN:VTIMEZONE
TZID:America/New_York
BEGIN:STANDARD
TZNAME:EST
DTSTART:20271107T020000
TZOFFSETFROM:-0400
TZOFFSETTO:-0500
RDATE:20281105T020000
END:STANDARD
BEGIN:DAYLIGHT
TZNAME:EDT
DTSTART:20270314T020000
TZOFFSETFROM:-0500
TZOFFSETTO:-0400
RDATE:20280312T020000
RDATE:20290311T020000
END:DAYLIGHT
END:VTIMEZONE
BEGIN:VEVENT
UID:8a8aebaf-3ead-4408-9661-27644a957584
DTSTAMP:20260425T140823Z
DESCRIPTION:On this date in 1921 - William Friedman became the first civili
 an cryptanalyst with the Office of the Chief Signal Officer. Friedman was 
 a prolific author\, teacher\, and practitioner of cryptology. Much of what
  is done today at the National Security Agency may be traced to his pionee
 ring efforts.\n\nLearn more via the link provide below.
DTSTART;TZID=America/New_York:20271231T060000
DTEND;TZID=America/New_York:20271231T060001
LOCATION:
SUMMARY:1921: William Friedman at Office of the Chief Signal Officer
END:VEVENT
END:VCALENDAR
