BEGIN:VCALENDAR
VERSION:2.0
PRODID:-//archive.cryptologicfoundation.org//NONSGML kigkonsult.se iCalcrea
 tor 2.30.10//
CALSCALE:GREGORIAN
METHOD:PUBLISH
UID:2784f877-dbfc-497a-bc1e-68f6eb45646b
X-WR-CALDESC:1 Jan 1977: U.S. Army Intelligence and Security Command (INSCO
 M) was established. \n\nThe US Army Intelligence and Security Command (INS
 COM) began at Arlington Hall Station in Virginia on 1 January 1977. INSCOM
  was organized as a result of the Army's Intelligence Organization and Sta
 tioning Study (IONS) -- an in-depth look at Army intelligence requirements
  initiated in 1975. Three main elements were originally combined to form I
 NSCOM in 1977: the US Army Security Agency (USASA)\; US Army Intelligence 
 Agency (USAINTA)\; and a number of different intelligence production agenc
 ies\, most of which had been under the Assistant Chief of Staff for Intell
 igence (ACSI) for direct control. In its first seven years\, INSCOM grew i
 n strength from 10\,400 to 15\,000 personnel.\n\n
X-WR-RELCALID:1c6e2cdfe7f8b4c9fa5a2c6ed06b5cc9
X-WR-TIMEZONE:America/New_York
BEGIN:VTIMEZONE
TZID:America/New_York
BEGIN:STANDARD
TZNAME:EST
DTSTART:20271107T020000
TZOFFSETFROM:-0400
TZOFFSETTO:-0500
RDATE:20281105T020000
END:STANDARD
BEGIN:DAYLIGHT
TZNAME:EDT
DTSTART:20270314T020000
TZOFFSETFROM:-0500
TZOFFSETTO:-0400
RDATE:20280312T020000
RDATE:20290311T020000
END:DAYLIGHT
END:VTIMEZONE
BEGIN:VEVENT
UID:09bca960-f951-44f2-b11f-b12859504cf2
DTSTAMP:20260425T160003Z
DESCRIPTION:1 Jan 1977: U.S. Army Intelligence and Security Command (INSCOM
 ) was established. \n\nThe US Army Intelligence and Security Command (INSC
 OM) began at Arlington Hall Station in Virginia on 1 January 1977. INSCOM 
 was organized as a result of the Army's Intelligence Organization and Stat
 ioning Study (IONS) -- an in-depth look at Army intelligence requirements 
 initiated in 1975. Three main elements were originally combined to form IN
 SCOM in 1977: the US Army Security Agency (USASA)\; US Army Intelligence A
 gency (USAINTA)\; and a number of different intelligence production agenci
 es\, most of which had been under the Assistant Chief of Staff for Intelli
 gence (ACSI) for direct control. In its first seven years\, INSCOM grew in
  strength from 10\,400 to 15\,000 personnel.\n\n
DTSTART;TZID=America/New_York:20280101T000000
DTEND;TZID=America/New_York:20280101T235900
LOCATION:
SUMMARY:1977: U.S. Army Intelligence and Security Command established.
END:VEVENT
END:VCALENDAR
