BEGIN:VCALENDAR
VERSION:2.0
PRODID:-//archive.cryptologicfoundation.org//NONSGML kigkonsult.se iCalcrea
 tor 2.30.10//
CALSCALE:GREGORIAN
METHOD:PUBLISH
UID:b8886087-badc-43a4-ae52-1f050fd3ab9d
X-WR-CALDESC:2 January 1980: The NSA Office of Policy mandated the use of t
 he term 'Service Cryptologic Element.'\n\nSCEs = Components of the three U
 S military services whose SIGINT activities are subordinate to DIRNSA/CHCS
 S. The SCEs are the US Army Intelligence and Security Command\, the Naval 
 Security Group\, and the Air Force Air Intelligence Agency.
X-WR-RELCALID:9c98f1a17fc00c5ba1690644b6087206
X-WR-TIMEZONE:America/New_York
BEGIN:VTIMEZONE
TZID:America/New_York
BEGIN:STANDARD
TZNAME:EST
DTSTART:20271107T020000
TZOFFSETFROM:-0400
TZOFFSETTO:-0500
RDATE:20281105T020000
END:STANDARD
BEGIN:DAYLIGHT
TZNAME:EDT
DTSTART:20270314T020000
TZOFFSETFROM:-0500
TZOFFSETTO:-0400
RDATE:20280312T020000
RDATE:20290311T020000
END:DAYLIGHT
END:VTIMEZONE
BEGIN:VEVENT
UID:84fda568-d258-4df1-b7bc-36b198fa9e1c
DTSTAMP:20260425T154647Z
DESCRIPTION:2 January 1980: The NSA Office of Policy mandated the use of th
 e term 'Service Cryptologic Element.'\n\nSCEs = Components of the three US
  military services whose SIGINT activities are subordinate to DIRNSA/CHCSS
 . The SCEs are the US Army Intelligence and Security Command\, the Naval S
 ecurity Group\, and the Air Force Air Intelligence Agency.
DTSTART;TZID=America/New_York:20280102T000000
DTEND;TZID=America/New_York:20280102T235900
LOCATION:
SUMMARY:1980: NSA Office of Policy mandated use of term 'Service Cryptologi
 c Element.'
END:VEVENT
END:VCALENDAR
