BEGIN:VCALENDAR
VERSION:2.0
PRODID:-//archive.cryptologicfoundation.org//NONSGML kigkonsult.se iCalcrea
 tor 2.30.10//
CALSCALE:GREGORIAN
METHOD:PUBLISH
UID:384dab5d-4e2e-464e-a1a9-2f395bce85a8
X-WR-CALDESC:4 January 1957: MG Gordon Blake named Commander\, Air Force Se
 curity Service.  In January 1962\, Lt Gen Gordon Blake became director of 
 the National Security Agency.\n\nWant to learn a 'little known fact' about
  Gen Blake's involvement with the ending of the war with the Japanese in 1
 945? Check out the link below.
X-WR-RELCALID:19d94968233f1ec7ccf29d9a63c3afc8
X-WR-TIMEZONE:America/New_York
BEGIN:VTIMEZONE
TZID:America/New_York
BEGIN:STANDARD
TZNAME:EST
DTSTART:20271107T020000
TZOFFSETFROM:-0400
TZOFFSETTO:-0500
RDATE:20281105T020000
END:STANDARD
BEGIN:DAYLIGHT
TZNAME:EDT
DTSTART:20270314T020000
TZOFFSETFROM:-0500
TZOFFSETTO:-0400
RDATE:20280312T020000
RDATE:20290311T020000
END:DAYLIGHT
END:VTIMEZONE
BEGIN:VEVENT
UID:d0b2cb60-ac9b-426e-8567-dbc8f3b50394
DTSTAMP:20260425T153354Z
DESCRIPTION:4 January 1957: MG Gordon Blake named Commander\, Air Force Sec
 urity Service.  In January 1962\, Lt Gen Gordon Blake became director of t
 he National Security Agency.\n\nWant to learn a 'little known fact' about 
 Gen Blake's involvement with the ending of the war with the Japanese in 19
 45? Check out the link below.
DTSTART;TZID=America/New_York:20280104T000000
DTEND;TZID=America/New_York:20280104T235900
LOCATION:
SUMMARY:1957: MG Gordon Blake named Commander\, AF Security Service
END:VEVENT
END:VCALENDAR
