BEGIN:VCALENDAR
VERSION:2.0
PRODID:-//archive.cryptologicfoundation.org//NONSGML kigkonsult.se iCalcrea
 tor 2.30.10//
CALSCALE:GREGORIAN
METHOD:PUBLISH
UID:314f91c8-95fe-4cd7-8899-7b35aeea14fa
X-WR-CALDESC:5 January 1924: Laurance Safford was named OIC\, Navy Cryptogr
 aphic Branch. Captain Safford established the Naval cryptologic organizati
 on after World War I\, and headed the effort more or less constantly until
  shortly after the Japanese attack on Pearl Harbor. His identification wit
 h the Naval effort was so close that he was considered the 'Friedman of th
 e Navy.'\n\nLaurance Safford was inducted into the NSA Cryptologic Hall of
  Honor in 1999. Learn more about him via the link below.
X-WR-RELCALID:456637a064069918861339eae5a9dbef
X-WR-TIMEZONE:America/New_York
BEGIN:VTIMEZONE
TZID:America/New_York
BEGIN:STANDARD
TZNAME:EST
DTSTART:20271107T020000
TZOFFSETFROM:-0400
TZOFFSETTO:-0500
RDATE:20281105T020000
END:STANDARD
BEGIN:DAYLIGHT
TZNAME:EDT
DTSTART:20270314T020000
TZOFFSETFROM:-0500
TZOFFSETTO:-0400
RDATE:20280312T020000
RDATE:20290311T020000
END:DAYLIGHT
END:VTIMEZONE
BEGIN:VEVENT
UID:92afe5a6-140e-4bc7-859d-c74b1acc66bb
DTSTAMP:20260425T154126Z
DESCRIPTION:5 January 1924: Laurance Safford was named OIC\, Navy Cryptogra
 phic Branch. Captain Safford established the Naval cryptologic organizatio
 n after World War I\, and headed the effort more or less constantly until 
 shortly after the Japanese attack on Pearl Harbor. His identification with
  the Naval effort was so close that he was considered the 'Friedman of the
  Navy.'\n\nLaurance Safford was inducted into the NSA Cryptologic Hall of 
 Honor in 1999. Learn more about him via the link below.
DTSTART;TZID=America/New_York:20280105T000000
DTEND;TZID=America/New_York:20280105T235900
LOCATION:
SUMMARY:1924: Laurance Safford named OIC\, Navy Cryptographic Branch.
END:VEVENT
END:VCALENDAR
