BEGIN:VCALENDAR
VERSION:2.0
PRODID:-//archive.cryptologicfoundation.org//NONSGML kigkonsult.se iCalcrea
 tor 2.30.10//
CALSCALE:GREGORIAN
METHOD:PUBLISH
UID:dd041d23-9d7b-4d6e-91d7-925228065ed7
X-WR-CALDESC:6 January 1838: Alfred Vail demonstrated a telegraph system us
 ing dots and dashes (the forerunner of Morse code). Did you know that the 
 dots and dashes in the flag that appears in the NCF logo have meaning? Cli
 ck the link below to find out what they mean.
X-WR-RELCALID:8d263da06799e1d7cd62ca04822a8b8c
X-WR-TIMEZONE:America/New_York
BEGIN:VTIMEZONE
TZID:America/New_York
BEGIN:STANDARD
TZNAME:EST
DTSTART:20271107T020000
TZOFFSETFROM:-0400
TZOFFSETTO:-0500
RDATE:20281105T020000
END:STANDARD
BEGIN:DAYLIGHT
TZNAME:EDT
DTSTART:20270314T020000
TZOFFSETFROM:-0500
TZOFFSETTO:-0400
RDATE:20280312T020000
RDATE:20290311T020000
END:DAYLIGHT
END:VTIMEZONE
BEGIN:VEVENT
UID:d42b4e62-2ac4-42da-bda0-b9987e1a6176
DTSTAMP:20260425T155852Z
DESCRIPTION:6 January 1838: Alfred Vail demonstrated a telegraph system usi
 ng dots and dashes (the forerunner of Morse code). Did you know that the d
 ots and dashes in the flag that appears in the NCF logo have meaning? Clic
 k the link below to find out what they mean.
DTSTART;TZID=America/New_York:20280106T000000
DTEND;TZID=America/New_York:20280106T235900
LOCATION:
SUMMARY:1838: Alfred Vail uses dots & dashes
END:VEVENT
END:VCALENDAR
