BEGIN:VCALENDAR
VERSION:2.0
PRODID:-//archive.cryptologicfoundation.org//NONSGML kigkonsult.se iCalcrea
 tor 2.30.10//
CALSCALE:GREGORIAN
METHOD:PUBLISH
UID:cb2ec59c-3fe9-437c-bdcf-ba7fd8cddad6
X-WR-CALDESC:13 January 2003: First 'History Today' article on NSA Daily Pa
 ge. To see a selection of the 'History Today' PDFs - visit the link below.
X-WR-RELCALID:f43a7b3cda2df52e01a43620da8d9791
X-WR-TIMEZONE:America/New_York
BEGIN:VTIMEZONE
TZID:America/New_York
BEGIN:STANDARD
TZNAME:EST
DTSTART:20271107T020000
TZOFFSETFROM:-0400
TZOFFSETTO:-0500
RDATE:20281105T020000
END:STANDARD
BEGIN:DAYLIGHT
TZNAME:EDT
DTSTART:20270314T020000
TZOFFSETFROM:-0500
TZOFFSETTO:-0400
RDATE:20280312T020000
RDATE:20290311T020000
END:DAYLIGHT
END:VTIMEZONE
BEGIN:VEVENT
UID:41b25e5e-e9bd-4821-87e2-5ec1449dd3db
DTSTAMP:20260425T154421Z
DESCRIPTION:13 January 2003: First 'History Today' article on NSA Daily Pag
 e. To see a selection of the 'History Today' PDFs - visit the link below.
DTSTART;TZID=America/New_York:20280113T000000
DTEND;TZID=America/New_York:20280113T235900
LOCATION:
SUMMARY:2003: First 'History Today' article on NSA Daily Page.
END:VEVENT
END:VCALENDAR
