BEGIN:VCALENDAR
VERSION:2.0
PRODID:-//archive.cryptologicfoundation.org//NONSGML kigkonsult.se iCalcrea
 tor 2.30.10//
CALSCALE:GREGORIAN
METHOD:PUBLISH
UID:bd7dc8b1-1fad-4fb8-a3e2-33ed7b922873
X-WR-CALDESC:15 January 1977: The 56-bit Data Encryption Standard (DES) was
  published as a  Federal Information Processing Standard (FIPS) standard f
 or the United States. It officially became the federal government's encryp
 tion standard for unclassified data and would subsequently be adopted by i
 ndustry as well. Learn more via the Wikipedia link below. (Image credit: U
 ser:Hellisp\, CC0\, via Wikimedia Commons)\n\nIn <b>December 2020\, the NC
 MF presented a #CyberChat with Dr. Whitfield Diffie</b>\, co-developer of 
 the first public key protocols and the discussion centered around the Data
  Encryption Standard\, as well as the Advanced Encryption Standard. To wat
 ch a recording of the #CyberChat - visit the link below to Nepris. You mus
 t create or login with your free Nepris account to watch the video.
X-WR-RELCALID:fbd2876afc246545d59484d56438c59d
X-WR-TIMEZONE:America/New_York
BEGIN:VTIMEZONE
TZID:America/New_York
BEGIN:STANDARD
TZNAME:EST
DTSTART:20271107T020000
TZOFFSETFROM:-0400
TZOFFSETTO:-0500
RDATE:20281105T020000
END:STANDARD
BEGIN:DAYLIGHT
TZNAME:EDT
DTSTART:20270314T020000
TZOFFSETFROM:-0500
TZOFFSETTO:-0400
RDATE:20280312T020000
RDATE:20290311T020000
END:DAYLIGHT
END:VTIMEZONE
BEGIN:VEVENT
UID:2b1ee63a-0217-4b9b-b59e-a42d4b085775
DTSTAMP:20260425T152915Z
DESCRIPTION:15 January 1977: The 56-bit Data Encryption Standard (DES) was 
 published as a  Federal Information Processing Standard (FIPS) standard fo
 r the United States. It officially became the federal government's encrypt
 ion standard for unclassified data and would subsequently be adopted by in
 dustry as well. Learn more via the Wikipedia link below. (Image credit: Us
 er:Hellisp\, CC0\, via Wikimedia Commons)\n\nIn <b>December 2020\, the NCM
 F presented a #CyberChat with Dr. Whitfield Diffie</b>\, co-developer of t
 he first public key protocols and the discussion centered around the Data 
 Encryption Standard\, as well as the Advanced Encryption Standard. To watc
 h a recording of the #CyberChat - visit the link below to Nepris. You must
  create or login with your free Nepris account to watch the video.
DTSTART;TZID=America/New_York:20280115T000000
DTEND;TZID=America/New_York:20280115T235900
LOCATION:
SUMMARY:1977: 56-bit Data Encryption Standard published.
END:VEVENT
END:VCALENDAR
