BEGIN:VCALENDAR
VERSION:2.0
PRODID:-//archive.cryptologicfoundation.org//NONSGML kigkonsult.se iCalcrea
 tor 2.30.10//
CALSCALE:GREGORIAN
METHOD:PUBLISH
UID:cb08b107-54bc-488d-ab3e-47ac4d4b9b08
X-WR-CALDESC:16 January 1898: General Order No. 9 authorized publication of
  a new War Department Telegraphic Code.
X-WR-RELCALID:81d8ed70b7c055595ccdf1cf115e2ea3
X-WR-TIMEZONE:America/New_York
BEGIN:VTIMEZONE
TZID:America/New_York
BEGIN:STANDARD
TZNAME:EST
DTSTART:20271107T020000
TZOFFSETFROM:-0400
TZOFFSETTO:-0500
RDATE:20281105T020000
END:STANDARD
BEGIN:DAYLIGHT
TZNAME:EDT
DTSTART:20270314T020000
TZOFFSETFROM:-0500
TZOFFSETTO:-0400
RDATE:20280312T020000
RDATE:20290311T020000
END:DAYLIGHT
END:VTIMEZONE
BEGIN:VEVENT
UID:5385fb40-b9c4-4a88-9028-b86d26059b11
DTSTAMP:20260425T153922Z
DESCRIPTION:16 January 1898: General Order No. 9 authorized publication of 
 a new War Department Telegraphic Code.
DTSTART;TZID=America/New_York:20280116T000000
DTEND;TZID=America/New_York:20280116T235900
LOCATION:
SUMMARY:1898: Publication of a new War Department Telegraphic Code was auth
 orized.
END:VEVENT
END:VCALENDAR
