BEGIN:VCALENDAR
VERSION:2.0
PRODID:-//archive.cryptologicfoundation.org//NONSGML kigkonsult.se iCalcrea
 tor 2.30.10//
CALSCALE:GREGORIAN
METHOD:PUBLISH
UID:361224ca-3f7b-4ad8-948a-8492e58b7b2a
X-WR-CALDESC:18 January 1859: Alfred Vail\, co-inventor of the telegraph\, 
 died.\n\nExcerpt from Wikipedia:  Vail was an American machinist and inven
 tor. He was central\, with Samuel F. B. Morse\, in developing and commerci
 alizing the telegraph between 1837 and 1844. Vail and Morse were the first
  two telegraph operators on Morse's first experimental line between Washin
 gton\, DC\, and Baltimore\, and Vail took charge of building and managing 
 several early telegraph lines between 1845 and 1848. He was also responsib
 le for several technical innovations of Morse's system\, particularly the 
 sending key and improved recording registers and relay magnets. Vail left 
 the telegraph industry in 1848 because he believed that the managers of Mo
 rse's lines did not fully value his contributions. He spent his last ten y
 ears conducting genealogical research. Vail's cousin was Theodore N. Vail\
 , who became the first president of American Telephone & Telegraph.
X-WR-RELCALID:04d5838ddd0b770d4d5f19a33fbf5bb6
X-WR-TIMEZONE:America/New_York
BEGIN:VTIMEZONE
TZID:America/New_York
BEGIN:STANDARD
TZNAME:EST
DTSTART:20271107T020000
TZOFFSETFROM:-0400
TZOFFSETTO:-0500
RDATE:20281105T020000
END:STANDARD
BEGIN:DAYLIGHT
TZNAME:EDT
DTSTART:20270314T020000
TZOFFSETFROM:-0500
TZOFFSETTO:-0400
RDATE:20280312T020000
RDATE:20290311T020000
END:DAYLIGHT
END:VTIMEZONE
BEGIN:VEVENT
UID:c3c8844c-dbe8-4d60-bcfc-75df803213c8
DTSTAMP:20260425T155823Z
DESCRIPTION:18 January 1859: Alfred Vail\, co-inventor of the telegraph\, d
 ied.\n\nExcerpt from Wikipedia:  Vail was an American machinist and invent
 or. He was central\, with Samuel F. B. Morse\, in developing and commercia
 lizing the telegraph between 1837 and 1844. Vail and Morse were the first 
 two telegraph operators on Morse's first experimental line between Washing
 ton\, DC\, and Baltimore\, and Vail took charge of building and managing s
 everal early telegraph lines between 1845 and 1848. He was also responsibl
 e for several technical innovations of Morse's system\, particularly the s
 ending key and improved recording registers and relay magnets. Vail left t
 he telegraph industry in 1848 because he believed that the managers of Mor
 se's lines did not fully value his contributions. He spent his last ten ye
 ars conducting genealogical research. Vail's cousin was Theodore N. Vail\,
  who became the first president of American Telephone & Telegraph.
DTSTART;TZID=America/New_York:20280118T000000
DTEND;TZID=America/New_York:20280118T235900
LOCATION:
SUMMARY:1859: Alfred Vail\, co-inventor of the telegraph\, died.
END:VEVENT
END:VCALENDAR
