BEGIN:VCALENDAR
VERSION:2.0
PRODID:-//archive.cryptologicfoundation.org//NONSGML kigkonsult.se iCalcrea
 tor 2.30.10//
CALSCALE:GREGORIAN
METHOD:PUBLISH
UID:2fe54b2b-bf75-49b5-aac0-59cb48a224b5
X-WR-CALDESC:19 January 1944: The 9th Infantry Division of the Australian A
 rmy captured the entire cryptographic library of the Japanese Imperial Arm
 y's 20th Division in Sio\, New Guinea\, which clinched the mastery of the 
 Imperial Army's codes and ciphers and helped to shorten the war in the Sou
 thwest Pacific Theater.
X-WR-RELCALID:0a74f289ebda4a84ec028551ba43353c
X-WR-TIMEZONE:America/New_York
BEGIN:VTIMEZONE
TZID:America/New_York
BEGIN:STANDARD
TZNAME:EST
DTSTART:20271107T020000
TZOFFSETFROM:-0400
TZOFFSETTO:-0500
RDATE:20281105T020000
END:STANDARD
BEGIN:DAYLIGHT
TZNAME:EDT
DTSTART:20270314T020000
TZOFFSETFROM:-0500
TZOFFSETTO:-0400
RDATE:20280312T020000
RDATE:20290311T020000
END:DAYLIGHT
END:VTIMEZONE
BEGIN:VEVENT
UID:ab2d2a5a-21b4-48c9-ba2e-64d484a95b4b
DTSTAMP:20260425T155537Z
DESCRIPTION:19 January 1944: The 9th Infantry Division of the Australian Ar
 my captured the entire cryptographic library of the Japanese Imperial Army
 's 20th Division in Sio\, New Guinea\, which clinched the mastery of the I
 mperial Army's codes and ciphers and helped to shorten the war in the Sout
 hwest Pacific Theater.
DTSTART;TZID=America/New_York:20280119T000000
DTEND;TZID=America/New_York:20280119T235900
LOCATION:
SUMMARY:1944: 9th Infantry Division of the Australian Army captured Japanes
 e cryptographic library.
END:VEVENT
END:VCALENDAR
