BEGIN:VCALENDAR
VERSION:2.0
PRODID:-//archive.cryptologicfoundation.org//NONSGML kigkonsult.se iCalcrea
 tor 2.30.10//
CALSCALE:GREGORIAN
METHOD:PUBLISH
UID:1b783f29-dc29-4849-92cf-029799f34508
X-WR-CALDESC:24 January 1918: Arthur Scherbius received a patent for a ciph
 er machine\, now known as the ENIGMA. \n\nLearn about the updated (and alw
 ays popular) ENIGMA exhibit at the NCM via the link below.\n
X-WR-RELCALID:acad55ca0fa5119f08096a8190567eb3
X-WR-TIMEZONE:America/New_York
BEGIN:VTIMEZONE
TZID:America/New_York
BEGIN:STANDARD
TZNAME:EST
DTSTART:20271107T020000
TZOFFSETFROM:-0400
TZOFFSETTO:-0500
RDATE:20281105T020000
END:STANDARD
BEGIN:DAYLIGHT
TZNAME:EDT
DTSTART:20270314T020000
TZOFFSETFROM:-0500
TZOFFSETTO:-0400
RDATE:20280312T020000
RDATE:20290311T020000
END:DAYLIGHT
END:VTIMEZONE
BEGIN:VEVENT
UID:d2b3ac69-e04d-44ca-a0a1-30a88446c3ca
DTSTAMP:20260425T152808Z
DESCRIPTION:24 January 1918: Arthur Scherbius received a patent for a ciphe
 r machine\, now known as the ENIGMA. \n\nLearn about the updated (and alwa
 ys popular) ENIGMA exhibit at the NCM via the link below.\n
DTSTART;TZID=America/New_York:20280124T000000
DTEND;TZID=America/New_York:20280124T235900
LOCATION:
SUMMARY:1918: Arthur Scherbius received patent for ENIGMA.
END:VEVENT
END:VCALENDAR
