BEGIN:VCALENDAR
VERSION:2.0
PRODID:-//archive.cryptologicfoundation.org//NONSGML kigkonsult.se iCalcrea
 tor 2.30.10//
CALSCALE:GREGORIAN
METHOD:PUBLISH
UID:44ec7c25-bd43-4014-bfb3-453647fcfa61
X-WR-CALDESC:1975: The Church Committee began investigation of the U.S. Int
 elligence Community. \n\nThe Church Committee was the United States Senate
  Select Committee to Study Governmental Operations with Respect to Intelli
 gence Activities\, a U.S. Senate committee chaired by Senator Frank Church
  (D-ID) in 1975. A precursor to the U.S. Senate Select Committee on Intell
 igence\, the committee investigated intelligence gathering for illegality 
 by the Central Intelligence Agency (CIA)\, National Security Agency (NSA) 
 and Federal Bureau of Investigation (FBI) after certain activities had bee
 n revealed by the Watergate affair. Together\, the Church Committee's repo
 rts have been said to constitute the most extensive review of intelligence
  activities ever made available to the public. Much of the contents were c
 lassified\, but over 50\,000 pages were declassified under the President J
 ohn F. Kennedy Assassination Records Collection Act of 1992.
X-WR-RELCALID:f54e3aebb08e1a034a487ef124924f4c
X-WR-TIMEZONE:America/New_York
BEGIN:VTIMEZONE
TZID:America/New_York
BEGIN:STANDARD
TZNAME:EST
DTSTART:20271107T020000
TZOFFSETFROM:-0400
TZOFFSETTO:-0500
RDATE:20281105T020000
END:STANDARD
BEGIN:DAYLIGHT
TZNAME:EDT
DTSTART:20270314T020000
TZOFFSETFROM:-0500
TZOFFSETTO:-0400
RDATE:20280312T020000
RDATE:20290311T020000
END:DAYLIGHT
END:VTIMEZONE
BEGIN:VEVENT
UID:aab5d232-f4ea-4dee-af68-3cb97882e211
DTSTAMP:20260425T155327Z
DESCRIPTION:1975: The Church Committee began investigation of the U.S. Inte
 lligence Community. \n\nThe Church Committee was the United States Senate 
 Select Committee to Study Governmental Operations with Respect to Intellig
 ence Activities\, a U.S. Senate committee chaired by Senator Frank Church 
 (D-ID) in 1975. A precursor to the U.S. Senate Select Committee on Intelli
 gence\, the committee investigated intelligence gathering for illegality b
 y the Central Intelligence Agency (CIA)\, National Security Agency (NSA) a
 nd Federal Bureau of Investigation (FBI) after certain activities had been
  revealed by the Watergate affair. Together\, the Church Committee's repor
 ts have been said to constitute the most extensive review of intelligence 
 activities ever made available to the public. Much of the contents were cl
 assified\, but over 50\,000 pages were declassified under the President Jo
 hn F. Kennedy Assassination Records Collection Act of 1992.
DTSTART;TZID=America/New_York:20280127T000000
DTEND;TZID=America/New_York:20280127T235900
LOCATION:
SUMMARY:1975: Church Committee began investigation of U.S. Intelligence Com
 munity.
END:VEVENT
END:VCALENDAR
